Workbook

Sheet Försättsblad
B18: Den totala konsumtionen av cigaretter och snus i Sverige 2003-2022
B20: Tabellbilaga till CAN rapport 224

Sheet Förteckning
B2: Förteckning
A4: Tabell 1 | B4: ='1'!A2 -> Konsumtion av cigaretter per invånare 15 år och äldre. 2003–2022.
A5: Tabell 2 | B5: ='2'!A2 -> Konsumtion av snus i antal kg per invånare 15 år och äldre. 2003–2022.
A6: Tabell 3 | B6: ='3'!A2 -> Konsumtion av snus i antal dosor per invånare 15 år och äldre. 2003–2022.
A7: Tabell 4 | B7: ='4'!A2 -> Andelen som tagit in cigaretter och snus i samband med utlandsresor samt har köpt smuggelcigaretter under de senaste 30 dagarna i befolkningen 17–84a) år. 2003–2022.
A8: Tabell 5 | B8: ='5'!A2 -> Självrapporterat antal rökta cigaretter i relation till skattad försäljning per invånare 15 år och äldre. 2003–2022.
A9: Tabell 6 | B9: ='6'!A2 -> Självrapporterat antal konsumerade snusdosor i relation till skattad försäljning per invånare 15 år och äldre. 2003–2022.
A1048575: Tabell 1

Sheet 1
C1: Tillbaka till innehållsförteckningen
A2: Konsumtion av cigaretter per invånare 15 år och äldre. 2003–2022.
B3: Totalt | C3: Registrerad försäljning | D3: Exklusive Norge | E3: Resandeinförsel | F3: Smuggling | G3: Oregistrerade, totalt | H3: Andel registrerade (%)
A5: 2003 | B5: 1053.6631 | C5: 979.30234 | D5: 929.9185 | E5: 86.191459 | F5: 37.553161 | G5: =E5+F5 -> 123.74462 | H5: =100-(G5/B5)*100 -> 88.25577
A6: 2004 | B6: 998.44581 | C6: 936.07659 | D6: 855.93144 | E6: 107.77849 | F6: 34.73588 | G6: =E6+F6 -> 142.51437 | H6: =100-(G6/B6)*100 -> 85.726379
A7: 2005 | B7: 996.53497 | C7: 937.36109 | D7: 875.83848 | E7: 80.825155 | F7: 39.871337 | G7: =E7+F7 -> 120.69649 | H7: =100-(G7/B7)*100 -> 87.888384
A8: 2006 | B8: 982.75812 | C8: 936.8468 | D8: 872.90293 | E8: 72.670729 | F8: 37.184462 | G8: =E8+F8 -> 109.85519 | H8: =100-(G8/B8)*100 -> 88.821747
A9: 2007 | B9: 897.44586 | C9: 842.27674 | D9: 794.64791 | E9: 68.714119 | F9: 34.083833 | G9: =E9+F9 -> 102.79795 | H9: =100-(G9/B9)*100 -> 88.545498
A10: 2008 | B10: 831.58705 | C10: 787.01624 | D10: 736.3974 | E10: 68.182075 | F10: 27.007577 | G10: =E10+F10 -> 95.189652 | H10: =100-(G10/B10)*100 -> 88.553255
A11: 2009 | B11: 831.87156 | C11: 810.01227 | D11: 763.09843 | E11: 44.767279 | F11: 24.005844 | G11: =E11+F11 -> 68.773124 | H11: =100-(G11/B11)*100 -> 91.732723
A12: 2010 | B12: 794.66385 | C12: 794.84259 | D12: 731.69498 | E12: 42.732366 | F12: 20.236509 | G12: =E12+F12 -> 62.968875 | H12: =100-(G12/B12)*100 -> 92.076036
A13: 2011 | B13: 813.29106 | C13: 821.79276 | D13: 768.29767 | E13: 31.245928 | F13: 13.747464 | G13: =E13+F13 -> 44.993391 | H13: =100-(G13/B13)*100 -> 94.467738
A14: 2012 | B14: 733.06168 | C14: 742.94747 | D14: 689.22488 | E14: 32.423394 | F14: 11.413408 | G14: =E14+F14 -> 43.836802 | H14: =100-(G14/B14)*100 -> 94.020039
A15: 2013 | B15: 703.82576 | C15: 677.1047 | D15: 639.69713 | E15: 52.003744 | F15: 12.124887 | G15: =E15+F15 -> 64.128631 | H15: =100-(G15/B15)*100 -> 90.888564
A16: 2014 | B16: 763.21064 | C16: 745.28952 | D16: 707.91446 | E16: 44.896181 | F16: 11.075 | G16: =E16+F16 -> 55.971181 | H16: =100-(G16/B16)*100 -> 92.666352
... A20: 2018 | B20: 653.14238 | C20: 628.50338 | D20: 619.04087 | E20: 29.001506 | F20: 5.455 | G20: =E20+F20 -> 34.456506 | H20: =100-(G20/B20)*100 -> 94.724503
A21: 2019A | B21: 639.21139 | C21: 629.71224 | D21: 596.3375 | E21: 31.273897 | F21: 12.305 | G21: =E21+F21 -> 43.578897 | H21: =100-(G21/B21)*100 -> 93.182397
A22: 2019B | B22: 641.50014 | C22: 629.71224 | D22: 596.3375 | E22: 30.49205 | F22: 14.7 | G22: =E22+F22 -> 45.19205 | H22: =100-(G22/B22)*100 -> 92.955255
A23: 2020 | B23: 616.82966 | C23: 586.66531 | D23: 579.62533 | E23: 19.416166 | F23: 17.8 | G23: =E23+F23 -> 37.216166 | H23: =100-(G23/B23)*100 -> 93.966541
A24: 2021 | B24: 574.18099 | C24: 555.87514 | D24: 548.09289 | E24: 13.900712 | F24: 12.18739 | G24: =E24+F24 -> 26.088102 | H24: =100-(G24/B24)*100 -> 95.456467
A25: 2022 | B25: 609.79984 | C25: 609.69684 | D25: 587.74775 | E25: 14.532275 | F25: 7.519817 | G25: =E25+F25 -> 22.052092 | H25: =100-(G25/B25)*100 -> 96.383716
A27: Källor: Beräkningskonventioner (2017-2023), CAN:s Monitormätningar, Folkhelseinstituttet, 2023.

Sheet 2
C1: Tillbaka till innehållsförteckningen
A2: Konsumtion av snus i antal kg per invånare 15 år och äldre. 2003–2022.
B3: Totalt | C3: Registrerad försäljning | D3: Till Norge | E3: Registrerade exklusive Norge | F3: Resandeinförsel | G3: Andel registrerade (%)
A5: 2003 | B5: =E5 -> 0.9199416 | C5: 0.93551571 | D5: ='[1]Snus beräkningar (2)'!K7 -> 0.015574109 | E5: =C5-D5 -> 0.9199416 | F5: . | G5: .
A6: 2004 | B6: =E6 -> 0.92539122 | C6: 0.9444236 | D6: ='[1]Snus beräkningar (2)'!K8 -> 0.019032384 | E6: =C6-D6 -> 0.92539122 | F6: . | G6: .
A7: 2005 | B7: =E7 -> 0.9031885 | C7: 0.92507309 | D7: ='[1]Snus beräkningar (2)'!K9 -> 0.021884586 | E7: =C7-D7 -> 0.9031885 | F7: . | G7: .
A8: 2006 | B8: =E8 -> 0.98578631 | C8: 1.0119426 | D8: ='[1]Snus beräkningar (2)'!K10 -> 0.026156307 | E8: =C8-D8 -> 0.98578631 | F8: . | G8: .
A9: 2007 | B9: =E9+F9 -> 0.80232661 | C9: 0.80641847 | D9: ='[1]Snus beräkningar (2)'!K11 -> 0.020490709 | E9: =C9-D9 -> 0.78592776 | F9: 0.016398845 | G9: =(1-F9/B9)*100 -> 97.956089
A10: 2008 | B10: =E10+F10 -> 0.72240992 | C10: 0.70469779 | D10: ='[1]Snus beräkningar (2)'!K12 -> 0.018523485 | E10: =C10-D10 -> 0.68617431 | F10: 0.03623561 | G10: =(1-F10/B10)*100 -> 94.984065
A11: 2009 | B11: =E11+F11 -> 0.74782825 | C11: 0.73967687 | D11: ='[1]Snus beräkningar (2)'!K13 -> 0.020091033 | E11: =C11-D11 -> 0.71958584 | F11: 0.028242411 | G11: =(1-F11/B11)*100 -> 96.223409
A12: 2010 | B12: =E12+F12 -> 0.75004414 | C12: 0.73624843 | D12: ='[1]Snus beräkningar (2)'!K14 -> 0.022578285 | E12: =C12-D12 -> 0.71367014 | F12: 0.036374003 | G12: =(1-F12/B12)*100 -> 95.150418
A13: 2011 | B13: =E13+F13 -> 0.77057422 | C13: 0.77482233 | D13: ='[1]Snus beräkningar (2)'!K15 -> 0.026476786 | E13: =C13-D13 -> 0.74834554 | F13: 0.022228678 | G13: =(1-F13/B13)*100 -> 97.11531
A14: 2012 | B14: =E14+F14 -> 0.8068287 | C14: =[2]SnusNov22!H16 -> 0.81444767 | D14: ='[1]Snus beräkningar (2)'!K16 -> 0.03032848 | E14: =C14-D14 -> 0.78411919 | F14: 0.022709512 | G14: =(1-F14/B14)*100 -> 97.185337
A15: 2013 | B15: =E15+F15 -> 0.74380321 | C15: =[2]SnusNov22!H17 -> 0.75449166 | D15: ='[1]Snus beräkningar (2)'!K17 -> 0.02908745 | E15: =C15-D15 -> 0.72540421 | F15: 0.018398996 | G15: =(1-F15/B15)*100 -> 97.526362
A16: 2014 | B16: =E16+F16 -> 0.76336631 | C16: =[2]SnusNov22!H18 -> 0.77628643 | D16: ='[1]Snus beräkningar (2)'!K18 -> 0.03128804 | E16: =C16-D16 -> 0.74499839 | F16: 0.018367927 | G16: =(1-F16/B16)*100 -> 97.593825
A17: 2015 | B17: =E17+F17 -> 0.76338407 | C17: =[2]SnusNov22!H19 -> 0.7792105 | D17: ='[1]Snus beräkningar (2)'!K19 -> 0.033112736 | E17: =C17-D17 -> 0.74609776 | F17: 0.017286314 | G17: =(1-F17/B17)*100 -> 97.735568
A18: 2016 | B18: =E18+F18 -> 0.80187841 | C18: =[2]SnusNov22!H20 -> 0.82169897 | D18: ='[1]Snus beräkningar (2)'!K20 -> 0.037798153 | E18: =C18-D18 -> 0.78390082 | F18: 0.017977584 | G18: =(1-F18/B18)*100 -> 97.758066
A19: 2017 | B19: =E19+F19 -> 0.76948532 | C19: =[2]SnusNov22!H21 -> 0.78853507 | D19: ='[1]Snus beräkningar (2)'!K21 -> 0.038638219 | E19: =C19-D19 -> 0.74989685 | F19: 0.019588462 | G19: =(1-F19/B19)*100 -> 97.454342
A20: 2018 | B20: =E20+F20 -> 0.7908476 | C20: =[2]SnusNov22!H22 -> 0.81660257 | D20: ='[1]Snus beräkningar (2)'!K22 -> 0.042463334 | E20: =C20-D20 -> 0.77413924 | F20: 0.016708359 | G20: =(1-F20/B20)*100 -> 97.887285
A21: 2019A | B21: =E21+F21 -> 0.86190686 | C21: 0.9 | D21: 0.047728138 | E21: =C21-D21 -> 0.85227186 | F21: 0.009635 | G21: =(1-F21/B21)*100 -> 98.88213
A22: 2019B | B22: =E22+F22 -> 0.86559686 | C22: 0.9 | D22: 0.047728138 | E22: =C22-D22 -> 0.85227186 | F22: 0.013325 | G22: =(1-F22/B22)*100 -> 98.4606
A23: 2020 | B23: =E23+F23 -> 0.89352116 | C23: =[2]SnusNov22!H23 -> 0.9005309 | D23: 0.010281102 | E23: =C23-D23 -> 0.8902498 | F23: 0.0032713655 | G23: =(1-F23/B23)*100 -> 99.633879
A24: 2021 | B24: =E24+F24 -> 0.85107048 | C24: =[2]SnusNov22!H24 -> 0.85675848 | D24: 0.012189249 | E24: =C24-D24 -> 0.84456923 | F24: 0.00650125 | G24: =(1-F24/B24)*100 -> 99.236109
A25: 2022 | B25: =E25+F25 -> 0.8532121 | C25: =[2]SnusNov22!H25 -> 0.87066063 | D25: 0.031683533 | E25: =C25-D25 -> 0.8389771 | F25: 0.014235 | G25: =(1-F25/B25)*100 -> 98.331599
A27: Källor: Beräkningskonventioner (2017-2023), CAN:s Monitormätningar, Folkhelseinstituttet, 2023

Sheet 3
C1: Tillbaka till innehållsförteckningen
A2: Konsumtion av snus i antal dosor per invånare 15 år och äldre. 2003–2022.
B3: Totalt | C3: Registrerad försäljning | D3: Till Norge | E3: Registrerade exklusive Norge | F3: Resandeinförsel | G3: Andel registrerade (%)
A5: 2003 | B5: 28.685742 | C5: 29.030478 | D5: 0.48328835 | E5: 28.54719 | F5: . | G5: .
A6: 2004 | B6: 29.414627 | C6: 29.843629 | D6: 0.60142019 | E6: 29.242209 | F6: . | G6: .
A7: 2005 | B7: 29.288592 | C7: 29.791321 | D7: 0.70477753 | E7: 29.086543 | F7: . | G7: .
A8: 2006 | B8: 32.686668 | C8: 33.300648 | D8: 0.86074248 | E8: 32.439906 | F8: . | G8: .
A9: 2007 | B9: 27.162778 | C9: 27.144777 | D9: 0.68973586 | E9: 26.455041 | F9: 0.51 | G9: =(1-F9/B9)*100 -> 98.122431
A10: 2008 | B10: 24.994686 | C10: 24.290126 | D10: 0.63848332 | E10: 23.651643 | F10: 1.16 | G10: =(1-F10/B10)*100 -> 95.359014
A11: 2009 | B11: 26.561485 | C11: 26.137907 | D11: 0.70995535 | E11: 25.427952 | F11: 0.93 | G11: =(1-F11/B11)*100 -> 96.49869
A12: 2010 | B12: 27.340542 | C12: 26.704707 | D12: 0.81894435 | E12: 25.885763 | F12: 1.22 | G12: =(1-F12/B12)*100 -> 95.537762
A13: 2011 | B13: 28.950667 | C13: 28.884733 | D13: 0.98703258 | E13: 27.8977 | F13: 0.77 | G13: =(1-F13/B13)*100 -> 97.340303
A14: 2012 | B14: 31.2292 | C14: 31.249258 | D14: 1.1636629 | E14: 30.085595 | F14: 0.81 | G14: =(1-F14/B14)*100 -> 97.406274
A15: 2013 | B15: 29.698998 | C15: 29.839587 | D15: 1.1503871 | E15: 28.6892 | F15: 0.68 | G15: =(1-F15/B15)*100 -> 97.71036
A16: 2014 | B16: 31.486063 | C16: 31.697362 | D16: 1.2775546 | E16: 30.419807 | F16: 0.7 | G16: =(1-F16/B16)*100 -> 97.776794
A17: 2015 | B17: 32.58855 | C17: 32.906013 | D17: 1.3983489 | E17: 31.507664 | F17: 0.68 | G17: =(1-F17/B17)*100 -> 97.913378
A18: 2016 | B18: 35.516257 | C18: 35.956065 | D18: 1.653979 | E18: 34.302086 | F18: 0.74 | G18: =(1-F18/B18)*100 -> 97.916447
A19: 2017 | B19: 35.401878 | C19: 35.82702 | D19: 1.755524 | E19: 34.071496 | F19: 0.84 | G19: =(1-F19/B19)*100 -> 97.627245
A20: 2018 | B20: 37.876291 | C20: 38.610377 | D20: 2.0077396 | E20: 36.602637 | F20: 0.75 | G20: =(1-F20/B20)*100 -> 98.019869
A21: 2019 | B21: 42.611203 | C21: 44.914259 | D21: 2.3804557 | E21: 42.171203 | F21: 0.44 | G21: =(1-F21/B21)*100 -> 98.967408
A22: 2019B | B22: 42.783263 | C22: 44.914259 | D22: 2.3804557 | E22: 42.533804 | F22: 0.61205949 | G22: =(1-F22/B22)*100 -> 98.569395
A23: 2020 | B23: 44.028432 | C23: 44.391631 | D23: 0.53269957 | E23: 43.858932 | F23: 0.1695008 | G23: =(1-F23/B23)*100 -> 99.61502
A24: 2021 | B24: 46.566494 | C24: 46.872712 | D24: 0.65621797 | E24: 46.216494 | F24: 0.35 | G24: =(1-F24/B24)*100 -> 99.248387
A25: 2022 | B25: 47.268471 | C25: 48.224555 | D25: 1.736084 | E25: 46.488471 | F25: 0.78 | G25: =(1-F25/B25)*100 -> 98.349851
A27: Källor: Beräkningskonventioner (2017-2023), CAN:s Monitormätningar, Folkhelseinstituttet, 2023

Sheet 4
C1: Tillbaka till innehållsförteckningen
A2: Andelen som tagit in cigaretter och snus i samband med utlandsresor samt har köpt smuggelcigaretter under de senaste 30 dagarna i befolkningen 17–84a) år. 2003–2022.
B3: Tagit in cigaretter (%) | C3: Tagit in snus (%) | D3: Köpt smuggelcigaretter (%)
A5: 2003 | B5: 2.22 | C5: . | D5: 0.61
A6: 2004 | B6: 2 | C6: . | D6: 0.57
A7: 2005 | B7: 1.88 | C7: . | D7: 0.48
A8: 2006 | B8: 1.65 | C8: . | D8: 0.39
A9: 2007 | B9: 1.6 | C9: 0.33 | D9: 0.39
A10: 2008 | B10: 1.58 | C10: 0.34 | D10: 0.54
A11: 2009 | B11: 1.04 | C11: 0.3 | D11: 0.35
A12: 2010 | B12: 1.04 | C12: 0.29 | D12: 0.29
A13: 2011 | B13: 0.96 | C13: 0.23 | D13: 0.2
A14: 2012 | B14: 1.11 | C14: 0.26 | D14: 0.15
A15: 2013 | B15: 0.93 | C15: 0.22 | D15: 0.29
A16: 2014 | B16: 0.9 | C16: 0.3 | D16: 0.08
A17: 2015 | B17: 0.71 | C17: 0.35 | D17: 0.11
A18: 2016 | B18: 0.71 | C18: 0.29 | D18: 0.11
A19: 2017 | B19: 0.72 | C19: 0.34 | D19: 0.16
A20: 2018 | B20: 0.68 | C20: 0.28 | D20: 0.15
A21: 2019 | B21: 0.62 | C21: 0.26 | D21: 0.17
A22: 2019B | B22: 0.73 | C22: 0.39 | D22: 0.23
A23: 2020 | B23: 0.47 | C23: 0.16 | D23: 0.23
A24: 2021 | B24: 0.23 | C24: 0.26 | D24: 0.1
A25: 2022 | B25: 0.5 | C25: 0.4 | D25: 0.1
A27: Källor: CAN:s Monitormätningar.
A28: a) Övre åldersgräns 80 år t.o.m. 2013.

Sheet 5
C1: Tillbaka till innehållsförteckningen
A2: Självrapporterat antal rökta cigaretter i relation till skattad försäljning per invånare 15 år och äldre. 2003–2022.
B3: Totalt | C3: Registrerad försäljning | D3: Registrerad exklusive norrmänns köp | E3: Självrapporterat antal per invånare 15 år och äldre | F3: Andel av total (%) | G3: Andel av registrerad (%) | H3: Andel av registrerade exklusive Norge (%)
A5: 2003 | B5: 1053.6631 | C5: 979.30234 | D5: 929.9185 | E5: 660 | F5: =(E5/B5)*100 -> 62.638616 | G5: =(E5/C5)*100 -> 67.394917 | H5: =(E5/D5)*100 -> 70.973962
A6: 2004 | B6: 998.44581 | C6: 936.07659 | D6: 855.93144 | E6: 659 | F6: =(E6/B6)*100 -> 66.00258 | G6: =(E6/C6)*100 -> 70.400222 | H6: =(E6/D6)*100 -> 76.992147
A7: 2005 | B7: 996.53497 | C7: 937.36109 | D7: 875.83848 | E7: 616 | F7: =(E7/B7)*100 -> 61.814188 | G7: =(E7/C7)*100 -> 65.716404 | H7: =(E7/D7)*100 -> 70.332603
A8: 2006 | B8: 982.75812 | C8: 936.8468 | D8: 872.90293 | E8: 577 | F8: =(E8/B8)*100 -> 58.712311 | G8: =(E8/C8)*100 -> 61.589579 | H8: =(E8/D8)*100 -> 66.101279
A9: 2007 | B9: 897.44586 | C9: 842.27674 | D9: 794.64791 | E9: 529 | F9: =(E9/B9)*100 -> 58.94506 | G9: =(E9/C9)*100 -> 62.805961 | H9: =(E9/D9)*100 -> 66.570363
A10: 2008 | B10: 831.58705 | C10: 787.01624 | D10: 736.3974 | E10: 469 | F10: =(E10/B10)*100 -> 56.398185 | G10: =(E10/C10)*100 -> 59.592163 | H10: =(E10/D10)*100 -> 63.688438
A11: 2009 | B11: 831.87156 | C11: 810.01227 | D11: 763.09843 | E11: 300 | F11: =(E11/B11)*100 -> 36.06326 | G11: =(E11/C11)*100 -> 37.036476 | H11: =(E11/D11)*100 -> 39.313408
A12: 2010 | B12: 794.66385 | C12: 794.84259 | D12: 731.69498 | E12: 283 | F12: =(E12/B12)*100 -> 35.612542 | G12: =(E12/C12)*100 -> 35.604534 | H12: =(E12/D12)*100 -> 38.677319
A13: 2011 | B13: 813.29106 | C13: 821.79276 | D13: 768.29767 | E13: 369 | F13: =(E13/B13)*100 -> 45.371211 | G13: =(E13/C13)*100 -> 44.901831 | H13: =(E13/D13)*100 -> 48.02826
A14: 2012 | B14: 733.06168 | C14: 742.94747 | D14: 689.22488 | E14: 352 | F14: =(E14/B14)*100 -> 48.017788 | G14: =(E14/C14)*100 -> 47.378854 | H14: =(E14/D14)*100 -> 51.071865
A15: 2013 | B15: 703.82576 | C15: 677.1047 | D15: 639.69713 | E15: 322 | F15: =(E15/B15)*100 -> 45.749959 | G15: =(E15/C15)*100 -> 47.555423 | H15: =(E15/D15)*100 -> 50.336321
A16: 2014 | B16: 763.21064 | C16: 745.28952 | D16: 707.91446 | E16: 366 | F16: =(E16/B16)*100 -> 47.955306 | G16: =(E16/C16)*100 -> 49.108432 | H16: =(E16/D16)*100 -> 51.701162
... A20: 2018 | B20: 653.14238 | C20: 628.50338 | D20: 619.04087 | E20: 328 | F20: =(E20/B20)*100 -> 50.21876 | G20: =(E20/C20)*100 -> 52.187468 | H20: =(E20/D20)*100 -> 52.985193
A21: 2019A | B21: 639.21139 | C21: 629.71224 | D21: 596.3375 | E21: 298 | F21: =(E21/B21)*100 -> 46.619945 | G21: =(E21/C21)*100 -> 47.323202 | H21: =(E21/D21)*100 -> 49.971703
A22: 2019B | B22: 641.50014 | C22: 629.71224 | D22: 596.3375 | E22: 350 | F22: =(E22/B22)*100 -> 54.559614 | G22: =(E22/C22)*100 -> 55.580942 | H22: =(E22/D22)*100 -> 58.691597
A23: 2020 | B23: 616.82966 | C23: 586.66531 | D23: 579.62533 | E23: 310 | F23: =(E23/B23)*100 -> 50.256987 | G23: =(E23/C23)*100 -> 52.841031 | H23: =(E23/D23)*100 -> 53.482825
A24: 2021 | B24: 574.18099 | C24: 555.87514 | D24: 548.09289 | E24: 278 | F24: =(E24/B24)*100 -> 48.416789 | G24: =(E24/C24)*100 -> 50.011231 | H24: =(E24/D24)*100 -> 50.721329
A25: 2022 | B25: 609.79984 | C25: 609.69684 | D25: 587.74775 | E25: 257 | F25: =(E25/B25)*100 -> 42.144976 | G25: =(E25/C25)*100 -> 42.152097 | H25: =(E25/D25)*100 -> 43.726241
A27: Källor: Beräkningskonventioner (2017-2023), CAN:s Monitormätningar, Folkhelseinstituttet, 2023

Sheet 6
C1: Tillbaka till innehållsförteckningen
A2: Självrapporterat antal konsumerade snusdosor i relation till skattad försäljning per invånare 15 år och äldre. 2003–2022.
B3: Totalt | C3: Registrerad försäljning | D3: Registrerad försäljning exklusive norrmäns köp | E3: Självrapporterat antal per invånare 15 år och äldre | F3: Andel total (%) | G3: Andel registrerad (%) | H3: Andel registrerade exklusive norrmäns köp (%)
A5: 2003 | B5: 28.685742 | C5: 29.030478 | D5: 28.54719
A6: 2004 | B6: 29.414627 | C6: 29.843629 | D6: 29.242209
A7: 2005 | B7: 29.288592 | C7: 29.791321 | D7: 29.086543
A8: 2006 | B8: 32.686668 | C8: 33.300648 | D8: 32.439906
A9: 2007 | B9: 27.162778 | C9: 27.144777 | D9: 26.455041 | E9: 23 | F9: =(E9/B9)*100 -> 84.674697 | G9: =(E9/C9)*100 -> 84.730849 | H9: =(E9/D9)*100 -> 86.939952
A10: 2008 | B10: 24.994686 | C10: 24.290126 | D10: 23.651643 | E10: 22 | F10: =(E10/B10)*100 -> 88.018708 | G10: =(E10/C10)*100 -> 90.571781 | H10: =(E10/D10)*100 -> 93.016794
A11: 2009 | B11: 26.561485 | C11: 26.137907 | D11: 25.427952 | E11: 22 | F11: =(E11/B11)*100 -> 82.826693 | G11: =(E11/C11)*100 -> 84.168942 | H11: =(E11/D11)*100 -> 86.518961
A12: 2010 | B12: 27.340542 | C12: 26.704707 | D12: 25.885763 | E12: 22 | F12: =(E12/B12)*100 -> 80.466584 | G12: =(E12/C12)*100 -> 82.38248 | H12: =(E12/D12)*100 -> 84.988803
A13: 2011 | B13: 28.950667 | C13: 28.884733 | D13: 27.8977 | E13: 21 | F13: =(E13/B13)*100 -> 72.537188 | G13: =(E13/C13)*100 -> 72.702767 | H13: =(E13/D13)*100 -> 75.275022
A14: 2012 | B14: 31.2292 | C14: 31.249258 | D14: 30.085595 | E14: 21 | F14: =(E14/B14)*100 -> 67.244758 | G14: =(E14/C14)*100 -> 67.201595 | H14: =(E14/D14)*100 -> 69.800846
A15: 2013 | B15: 29.698998 | C15: 29.839587 | D15: 28.6892 | E15: 24 | F15: =(E15/B15)*100 -> 80.810806 | G15: =(E15/C15)*100 -> 80.430067 | H15: =(E15/D15)*100 -> 83.655173
A16: 2014 | B16: 31.486063 | C16: 31.697362 | D16: 30.419807 | E16: 23 | F16: =(E16/B16)*100 -> 73.048193 | G16: =(E16/C16)*100 -> 72.561243 | H16: =(E16/D16)*100 -> 75.608631
A17: 2015 | B17: 32.58855 | C17: 32.906013 | D17: 31.507664 | E17: 24 | F17: =(E17/B17)*100 -> 73.645499 | G17: =(E17/C17)*100 -> 72.934998 | H17: =(E17/D17)*100 -> 76.171943
A18: 2016 | B18: 35.516257 | C18: 35.956065 | D18: 34.302086 | E18: 27 | F18: =(E18/B18)*100 -> 76.021524 | G18: =(E18/C18)*100 -> 75.091642 | H18: =(E18/D18)*100 -> 78.712413
A19: 2017 | B19: 35.401878 | C19: 35.82702 | D19: 34.071496 | E19: 27 | F19: =(E19/B19)*100 -> 76.26714 | G19: =(E19/C19)*100 -> 75.362115 | H19: =(E19/D19)*100 -> 79.245126
A20: 2018 | B20: 37.876291 | C20: 38.610377 | D20: 36.602637 | E20: 26 | F20: =(E20/B20)*100 -> 68.644525 | G20: =(E20/C20)*100 -> 67.33941 | H20: =(E20/D20)*100 -> 71.033133
A21: 2019A | B21: 42.611203 | C21: 44.914259 | D21: 42.171203 | E21: 31 | F21: =(E21/B21)*100 -> 72.750821 | G21: =(E21/C21)*100 -> 69.020397 | H21: =(E21/D21)*100 -> 73.509878
A22: 2019B | B22: 42.783263 | C22: 44.914259 | D22: 42.533804 | E22: 32 | F22: =(E22/B22)*100 -> 74.795605 | G22: =(E22/C22)*100 -> 71.246861 | H22: =(E22/D22)*100 -> 75.234278
A23: 2020 | B23: 44.028432 | C23: 44.391631 | D23: 43.858932 | E23: 37 | F23: =(E23/B23)*100 -> 84.036605 | G23: =(E23/C23)*100 -> 83.349044 | H23: =(E23/D23)*100 -> 84.36138
A24: 2021 | B24: 46.566494 | C24: 46.872712 | D24: 46.216494 | E24: 40 | F24: =(E24/B24)*100 -> 85.898672 | G24: =(E24/C24)*100 -> 85.337498 | H24: =(E24/D24)*100 -> 86.549187
A25: 2022 | B25: 47.268471 | C25: 48.224555 | D25: 46.488471 | E25: 42 | F25: =(E25/B25)*100 -> 88.854154 | G25: =(E25/C25)*100 -> 87.092561 | H25: =(E25/D25)*100 -> 90.34498
A27: Källor: Beräkningskonventioner (2017-2023), CAN:s Monitormätningar, Folkhelseinstituttet, 2023
