Workbook
Name _Toc259450346: '1'!$A$2
Name _Toc259450346: '2'!$A$2
Name _Toc259450346: '3'!$A$2
Name _Toc259450346: '4'!$A$2
Name _Toc259450346: '5'!$A$2
Name _Toc259450346: '6'!$A$2
Name _Toc259450346: '7'!$A$2
Name _Toc259450346: '8'!$A$2

Sheet Försättsblad
A19: Narkotikaprisutvecklingen i Sverige 1988–2022
A20: CAN Rapport 219

Sheet Förklaringar
A4: Beskrivning: | B4: Denna Excelfil utgörs av tabeller innehållande data hämtade från CAN:s rapporteringssystem om droger (CRD). För mer information om undersökningen hänvisas till CAN-rapport 210 som kan laddas ner från www.can.se.
A6: Begrepp: | B6: Med KPI avses SCB:s konsumentprisindex. Justeringen enligt KPI genererar s.k. realpriser.
B8: Medianvärde används som komplement till aritmetiskt medelvärde/genomsnittet för att undvika att (eventuella) kraftigt avvikande rapporterade priser får alltför stort inflytande.
A10: Kontakt: | B10: ulf.guttormsson@can.se
A12: Publicerat: | B12: 2023-05-23

Sheet Innehåll
A2: Nr: | B2: Tabellförteckning
A4: 1 | B4: ='1'!A2 -> Gatuprisutvecklingen för hasch i realprisjusterade medianpriser. Priser i kronor per gram (inkl. antalet prissvar, prisintervall samt ursprungliga medel- och medianpriser). 1988–2022.
A5: 2 | B5: ='2'!A2 -> Gatuprisutvecklingen för marijuana i realprisjusterade medianpriser. Priser i kronor per gram (inkl. antalet prissvar, prisintervall samt ursprungliga medel- och medianpriser). 1988–2022.
A6: 3 | B6: ='3'!A2 -> Gatuprisutvecklingen för amfetamin i realprisjusterade medianpriser. Priser i kronor per gram (inkl. antalet prissvar, prisintervall samt ursprungliga medel- och medianpriser). 1988–2022.
A7: 4 | B7: ='4'!A2 -> Gatuprisutvecklingen för kokain i realprisjusterade medianpriser. Priser i kronor per gram (inkl. antalet prissvar, prisintervall samt ursprungliga medel- och medianpriser). 1988–2022.
A8: 5 | B8: ='5'!A2 -> Gatuprisutvecklingen för vitt heroin/heroina) i realprisjusterade medianpriser. Priser i kronor per gram (inkl. antalet prissvar, prisintervall samt ursprungliga medel- och medianpriser). 1988–2022.
A9: 6 | B9: ='6'!A2 -> Gatuprisutvecklingen för brunt heroin/heroina) i realprisjusterade medianpriser. Priser i kronor per gram (inkl. antalet prissvar, prisintervall samt ursprungliga medel- och medianpriser). 1988–2022.
A10: 7 | B10: ='7'!A2 -> Gatuprisutvecklingen för ecstasy i realprisjusterade medianpriser. Priser i kronor per tablett (inkl. antalet prissvar, prisintervall samt ursprungliga medel- och medianpriser). 2000–2022.
A11: 8 | B11: ='8'!A2 -> Gatuprisutvecklingen för LSD i realprisjusterade medianpriser. Priser i kronor per dos (inkl. antalet prissvar, prisintervall samt ursprungliga medel- och medianpriser). 2000–2022.
A12: 9 | B12: ='9'!A2 -> Gatupriset för tramadola). Pris i kronor per 100 milligram (inkl. antalet prissvar, prisintervall samt medel- och medianpriser). 2018–2022.
A13: 10 | B13: ='10'!A2 -> Gatupriset för alprazolama). Pris i kronor per 1 milligram (inkl. antalet prissvar, prisintervall samt medel- och medianpriser). 2018–2022.
A14: 11 | B14: ='11'!A2 -> Indexerad realprisjusterad mediangatuprisutveckling för hasch, marijuana, amfetamin, kokain och brunt heroin. 1988–2022. Index 1988=100.
A15: 12 | B15: ='12'!A2 -> Indexerad realprisjusterad utveckling av gatupriset (medianvärden) för hasch, marijuana, amfetamin, kokain, brunt heroin, ecstasy och LSD. 2000–2022. Index 2000=100.
A16: 13 | B16: ='13'!A2 -> Grossistprisutvecklingen för hasch i realprisjusterade medianpriser. Priser i kronor per kilo (inkl. antalet prissvar, prisintervall samt ursprungliga medel- och medianpriser). 2010–2022.
A17: 14 | B17: ='14'!A2 -> Grossistprisutvecklingen för marijuana i realprisjusterade medianpriser. Priser i kronor per kilo (inkl. antalet prissvar, prisintervall samt ursprungliga medel- och medianpriser). 2010–2022.
A18: 15 | B18: ='15'!A2 -> Grossistprisutvecklingen för amfetamin i realprisjusterade medianpriser. Priser i kronor per kilo (inkl. antalet prissvar, prisintervall samt ursprungliga medel- och medianpriser). 2010–2022.
A19: 16 | B19: ='16'!A2 -> Grossistprisutvecklingen för kokain i realprisjusterade medianpriser. Priser i kronor per kilo (inkl. antalet prissvar, prisintervall samt ursprungliga medel- och medianpriser). 2010–2022.
A20: 17 | B20: ='17'!A2 -> Grossistprisutvecklingen för brunt heroin i realprisjusterade medianpriser. Priser i kronor per kilo (inkl. antalet prissvar, prisintervall samt ursprungliga medel- och medianpriser). 2010–2022.
A21: 18 | B21: ='18'!A2 -> Grossistprisutvecklingen för ecstasy i realprisjusterade medianpriser. Priser i kronor per tusental tabletter (inkl. antalet prissvar, prisintervall samt ursprungliga medel- och medianpriser). 2010–2022.
A22: 19 | B22: ='19'!A2 -> Cannabisbeslag av tull och polis. Kilo. 2018–2022.
A23: 20 | B23: ='20'!A2 -> Amfetamin-, kokain, ecstasy, heroin- och läkemdelsbeslag av tull och polis. Kilo resp. 1000-tal tabletter. För vissa tullbeslag har mängderna räknats upp. 2018–2022.
A24: 21 | B24: ='21'!A2 -> Inflationsjusterade gatupriser, kronor per gram för hasch, marijuana, amfteamin, kokain och heroin respektive per tablett för ecstasy och läkemedel. 2018–2022.
A25: 22 | B25: ='22'!A2 -> Gatuprisutvecklingen för smugglad tobak och alkohol i realprisjusterade medianpriser. Priser i kronor per limpaa), liter resp. flakb) (inkl. antalet prissvar, prisintervall samt ursprungliga medel- och medianpriser). 2017–2022.

Sheet 1
H1: Till innehållsförteckningen
A2: Gatuprisutvecklingen för hasch i realprisjusterade medianpriser. Priser i kronor per gram (inkl. antalet prissvar, prisintervall samt ursprungliga medel- och medianpriser). 1988–2022.
B3: Antal enkäter | C3: Svar | E3: Prisintervall | H3: Ursprungligt pris | J3: KPI-justerat medianpris
C4: Antal | D4: (%) | H4: Medel | I4: Median
A6: 1988 | B6: 21 | C6: 13 | D6: 62 | E6: 30 | F6: – | G6: 125 | H6: 91 | I6: 100 | J6: 210.47538
A7: 1989 | B7: 42 | C7: 33 | D7: 79 | E7: 50 | F7: – | G7: 100 | H7: 84 | I7: 85 | J7: 168.07927
A8: 1990 | B8: 40 | C8: 34 | D8: 85 | E8: 55 | F8: – | G8: 110 | H8: 86 | I8: 88 | J8: 157.6649
A9: 1991 | B9: 35 | C9: 33 | D9: 94 | E9: 45 | F9: – | G9: 110 | H9: 84 | I9: 85 | J9: 139.15111
A10: 1992 | B10: 39 | C10: 36 | D10: 92 | E10: 50 | F10: – | G10: 100 | H10: 83 | I10: 85 | J10: 135.92033
A11: 1993 | B11: 41 | C11: 35 | D11: 85 | E11: 60 | F11: – | G11: 175 | H11: 89 | I11: 90 | J11: 137.4221
A12: 1994 | B12: 36 | C12: 30 | D12: 83 | E12: 50 | F12: – | G12: 150 | H12: 86 | I12: 80 | J12: 119.57079
A13: 1995 | B13: 39 | C13: 29 | D13: 74 | E13: 60 | F13: – | G13: 150 | H13: 88 | I13: 90 | J13: 131.29325
A14: 1996 | B14: 35 | C14: 28 | D14: 80 | E14: 50 | F14: – | G14: 125 | H14: 87 | I14: 85 | J14: 123.3412
A15: 1997 | B15: 30 | C15: 21 | D15: 70 | E15: 50 | F15: – | G15: 150 | H15: 86 | I15: 80 | J15: 115.3254
A16: 1998 | B16: 35 | C16: 22 | D16: 63 | E16: 55 | F16: – | G16: 100 | H16: 86 | I16: 90 | J16: 130.089
A17: 1999 | B17: 32 | C17: 23 | D17: 72 | E17: 60 | F17: – | G17: 150 | H17: 95 | I17: 90 | J17: 129.49012
... A40: 2022 | B40: 52 | C40: 50 | D40: 96.153846 | E40: 33 | F40: – | G40: 200 | H40: 119.07 | I40: 111.25 | J40: 111
A42: Källa: CAN:s rapporteringssystem om droger.

Sheet 2
H1: Till innehållsförteckningen
A2: Gatuprisutvecklingen för marijuana i realprisjusterade medianpriser. Priser i kronor per gram (inkl. antalet prissvar, prisintervall samt ursprungliga medel- och medianpriser). 1988–2022.
B3: Antal enkäter | C3: Svar | E3: Prisintervall | H3: Ursprungligt pris | J3: KPI-justerat medianpris
C4: Antal | D4: (%) | H4: Medel | I4: Median
A6: 1988 | B6: 21 | C6: 2 | D6: 10 | E6: 90 | F6: – | G6: 100 | H6: 95 | I6: 95 | J6: 199.95161
A7: 1989 | B7: 42 | C7: 5 | D7: 12 | E7: 40 | F7: – | G7: 100 | H7: 62 | I7: 50 | J7: 98.870162
A8: 1990 | B8: 40 | C8: 5 | D8: 13 | E8: 50 | F8: – | G8: 100 | H8: 77 | I8: 85 | J8: 152.28996
A9: 1991 | B9: 35 | C9: 5 | D9: 14 | E9: 45 | F9: – | G9: 80 | H9: 63 | I9: 65 | J9: 106.40968
A10: 1992 | B10: 39 | C10: 6 | D10: 15 | E10: 40 | F10: – | G10: 80 | H10: 53 | I10: 45 | J10: 71.957821
A11: 1993 | B11: 41 | C11: 2 | D11: 5 | E11: 40 | F11: – | G11: 100 | H11: 70 | I11: 70 | J11: 106.88385
A12: 1994 | B12: 36 | C12: 4 | D12: 11 | E12: 40 | F12: – | G12: 50 | H12: 46 | I12: 48 | J12: 71.742475
A13: 1995 | B13: 39 | C13: 8 | D13: 21 | E13: 50 | F13: – | G13: 100 | H13: 81 | I13: 85 | J13: 123.99918
A14: 1996 | B14: 35 | C14: 8 | D14: 23 | E14: 50 | F14: – | G14: 100 | H14: 79 | I14: 80 | J14: 116.08584
A15: 1997 | B15: 30 | C15: 4 | D15: 13 | E15: 80 | F15: – | G15: 100 | H15: 91 | I15: 92 | J15: 132.62421
A16: 1998 | B16: 35 | C16: 6 | D16: 17 | E16: 75 | F16: – | G16: 100 | H16: 96 | I16: 100 | J16: 144.54333
A17: 1999 | B17: 32 | C17: 7 | D17: 22 | E17: 60 | F17: – | G17: 100 | H17: 86 | I17: 85 | J17: 122.29622
... A40: 2022 | B40: 52 | C40: 43 | D40: 82.692308 | E40: 80 | F40: – | G40: 200 | H40: 128.26 | I40: 125 | J40: 125
A42: Källa: CAN:s rapporteringssystem om droger.

Sheet 3
H1: Till innehållsförteckningen
A2: Gatuprisutvecklingen för amfetamin i realprisjusterade medianpriser. Priser i kronor per gram (inkl. antalet prissvar, prisintervall samt ursprungliga medel- och medianpriser). 1988–2022.
B3: Antal enkäter | C3: Svar | E3: Prisintervall | H3: Ursprungligt pris | J3: KPI-justerat medianpris
C4: Antal | D4: (%) | H4: Medel | I4: Median
A6: 1988 | B6: 21 | C6: 13 | D6: 62 | E6: 250 | F6: – | G6: 525 | H6: 413 | I6: 400 | J6: 841.90153
A7: 1989 | B7: 42 | C7: 33 | D7: 79 | E7: 200 | F7: – | G7: 1000 | H7: 444 | I7: 400 | J7: 790.96129
A8: 1990 | B8: 40 | C8: 31 | D8: 78 | E8: 250 | F8: – | G8: 800 | H8: 419 | I8: 400 | J8: 716.65864
A9: 1991 | B9: 35 | C9: 32 | D9: 91 | E9: 100 | F9: – | G9: 700 | H9: 402 | I9: 400 | J9: 654.82877
A10: 1992 | B10: 39 | C10: 33 | D10: 85 | E10: 160 | F10: – | G10: 600 | H10: 366 | I10: 350 | J10: 559.67194
A11: 1993 | B11: 41 | C11: 34 | D11: 83 | E11: 155 | F11: – | G11: 550 | H11: 373 | I11: 362 | J11: 552.74221
A12: 1994 | B12: 36 | C12: 22 | D12: 61 | E12: 100 | F12: – | G12: 550 | H12: 314 | I12: 300 | J12: 448.39047
A13: 1995 | B13: 39 | C13: 27 | D13: 69 | E13: 180 | F13: – | G13: 500 | H13: 305 | I13: 300 | J13: 437.64415
A14: 1996 | B14: 35 | C14: 26 | D14: 74 | E14: 100 | F14: – | G14: 500 | H14: 294 | I14: 275 | J14: 399.04506
A15: 1997 | B15: 30 | C15: 24 | D15: 80 | E15: 135 | F15: – | G15: 450 | H15: 309 | I15: 300 | J15: 432.47025
A16: 1998 | B16: 35 | C16: 23 | D16: 66 | E16: 190 | F16: – | G16: 375 | H16: 283 | I16: 300 | J16: 433.63
A17: 1999 | B17: 32 | C17: 21 | D17: 66 | E17: 175 | F17: – | G17: 500 | H17: 297 | I17: 260 | J17: 374.08256
... A40: 2022 | B40: 52 | C40: 46 | D40: 88.461538 | E40: 70 | F40: – | G40: 350 | H40: 203.26 | I40: 200 | J40: 200
A42: Källa: CAN:s rapporteringssystem om droger.

Sheet 4
H1: Till innehållsförteckningen
A2: Gatuprisutvecklingen för kokain i realprisjusterade medianpriser. Priser i kronor per gram (inkl. antalet prissvar, prisintervall samt ursprungliga medel- och medianpriser). 1988–2022.
B3: Antal enkäter | C3: Svar | E3: Prisintervall | H3: Ursprungligt pris | J3: KPI-justerat medianpris
C4: Antal | D4: (%) | H4: Medel | I4: Median
A6: 1988 | B6: 21 | C6: 5 | D6: 24 | E6: 250 | F6: – | G6: 1250 | H6: 820 | I6: 800 | J6: 1683.8031
A7: 1989 | B7: 42 | C7: 10 | D7: 24 | E7: 500 | F7: – | G7: 2000 | H7: 1010 | I7: 900 | J7: 1779.6629
A8: 1990 | B8: 40 | C8: 11 | D8: 28 | E8: 600 | F8: – | G8: 1500 | H8: 1114 | I8: 1200 | J8: 2149.9759
A9: 1991 | B9: 35 | C9: 7 | D9: 20 | E9: 900 | F9: – | G9: 1500 | H9: 1143 | I9: 1000 | J9: 1637.0719
A10: 1992 | B10: 39 | C10: 11 | D10: 28 | E10: 800 | F10: – | G10: 1150 | H10: 959 | I10: 1000 | J10: 1599.0627
A11: 1993 | B11: 41 | C11: 15 | D11: 37 | E11: 500 | F11: – | G11: 1500 | H11: 983 | I11: 1000 | J11: 1526.9122
A12: 1994 | B12: 36 | C12: 9 | D12: 25 | E12: 800 | F12: – | G12: 1200 | H12: 961 | I12: 1000 | J12: 1494.6349
A13: 1995 | B13: 39 | C13: 13 | D13: 33 | E13: 700 | F13: – | G13: 1500 | H13: 973 | I13: 1000 | J13: 1458.8138
A14: 1996 | B14: 35 | C14: 11 | D14: 31 | E14: 250 | F14: – | G14: 1500 | H14: 995 | I14: 1000 | J14: 1451.073
A15: 1997 | B15: 30 | C15: 6 | D15: 20 | E15: 900 | F15: – | G15: 1500 | H15: 1133 | I15: 1100 | J15: 1585.7243
A16: 1998 | B16: 35 | C16: 8 | D16: 23 | E16: 700 | F16: – | G16: 1500 | H16: 1000 | I16: 950 | J16: 1373.1617
A17: 1999 | B17: 32 | C17: 4 | D17: 13 | E17: 1000 | F17: – | G17: 1250 | H17: 1112 | I17: 1100 | J17: 1582.657
... A40: 2022 | B40: 52 | C40: 49 | D40: 94.230769 | E40: 400 | F40: – | G40: 1300 | H40: 905.1 | I40: 900 | J40: 900
A42: Källa: CAN:s rapporteringssystem om droger.

Sheet 5
H1: Till innehållsförteckningen
A2: Gatuprisutvecklingen för vitt heroin/heroina) i realprisjusterade medianpriser. Priser i kronor per gram (inkl. antalet prissvar, prisintervall samt ursprungliga medel- och medianpriser). 1988–2022.
B3: Antal enkäter | C3: Svar | E3: Prisintervall | H3: Ursprungligt pris | J3: KPI-justerat medianpris
C4: Antal | D4: (%) | H4: Medel | I4: Median
A6: 1988 | B6: 21 | C6: 9 | D6: 43 | E6: 900 | F6: – | G6: 2500 | H6: 1689 | I6: 1700 | J6: 3578.0815
A7: 1989 | B7: 42 | C7: 17 | D7: 40 | E7: 1000 | F7: – | G7: 2800 | H7: 1981 | I7: 2000 | J7: 3954.8065
A8: 1990 | B8: 40 | C8: 20 | D8: 50 | E8: 1000 | F8: – | G8: 3000 | H8: 2010 | I8: 2000 | J8: 3583.2932
A9: 1991 | B9: 35 | C9: 17 | D9: 49 | E9: 250 | F9: – | G9: 2500 | H9: 1862 | I9: 2000 | J9: 3274.1439
A10: 1992 | B10: 39 | C10: 20 | D10: 51 | E10: 450 | F10: – | G10: 3000 | H10: 1782 | I10: 1875 | J10: 2998.2425
A11: 1993 | B11: 41 | C11: 22 | D11: 54 | E11: 1000 | F11: – | G11: 3000 | H11: 2059 | I11: 2375 | J11: 3626.4164
A12: 1994 | B12: 36 | C12: 14 | D12: 39 | E12: 700 | F12: – | G12: 5000 | H12: 2289 | I12: 2500 | J12: 3736.5872
A13: 1995 | B13: 39 | C13: 13 | D13: 33 | E13: 1200 | F13: – | G13: 4500 | H13: 2398 | I13: 2250 | J13: 3282.3311
A14: 1996 | B14: 35 | C14: 13 | D14: 37 | E14: 500 | F14: – | G14: 2500 | H14: 1605 | I14: 1750 | J14: 2539.3777
A15: 1997 | B15: 30 | C15: 6 | D15: 20 | E15: 800 | F15: – | G15: 2500 | H15: 1667 | I15: 1600 | J15: 2306.508
A16: 1998 | B16: 35 | C16: 8 | D16: 23 | E16: 500 | F16: – | G16: 3000 | H16: 1788 | I16: 1875 | J16: 2710.1875
A17: 1999 | B17: 32 | C17: 1 | D17: 3 | E17: 1750 | F17: – | G17: 1750 | H17: 1750 | I17: 1750 | J17: 2517.8634
... A40: 2022 | B40: 52 | C40: 9 | D40: 17.307692 | E40: 900 | F40: – | G40: 1750 | H40: 1027.78 | I40: 900 | J40: 900
A42: Källa: CAN:s rapporteringssystem om droger.
A44: a) T.o.m. 1990 efterfrågades ”heroin” och 1993–1997 efterfrågades ”vanligt heroin” medan frågeformuleringen inte är känd för 1991–1992.

Sheet 6
H1: Till innehållsförteckningen
A2: Gatuprisutvecklingen för brunt heroin/heroina) i realprisjusterade medianpriser. Priser i kronor per gram (inkl. antalet prissvar, prisintervall samt ursprungliga medel- och medianpriser). 1988–2022.
B3: Antal enkäter | C3: Svar | E3: Prisintervall | H3: Ursprungligt pris | J3: KPI-justerat medianpris
C4: Antal | D4: (%) | H4: Medel | I4: Median
A6: 1988 | B6: 21 | C6: 9 | D6: 43 | E6: 900 | F6: – | G6: 2500 | H6: 1689 | I6: 1700 | J6: 3578.0815
A7: 1989 | B7: 42 | C7: 17 | D7: 40 | E7: 1000 | F7: – | G7: 2800 | H7: 1981 | I7: 2000 | J7: 3954.8065
A8: 1990 | B8: 40 | C8: 20 | D8: 50 | E8: 1000 | F8: – | G8: 3000 | H8: 2010 | I8: 2000 | J8: 3583.2932
A9: 1991 | B9: 35 | C9: 17 | D9: 49 | E9: 250 | F9: – | G9: 2500 | H9: 1862 | I9: 2000 | J9: 3274.1439
A10: 1992 | B10: 39 | C10: 20 | D10: 51 | E10: 450 | F10: – | G10: 3000 | H10: 1782 | I10: 1875 | J10: 2998.2425
A11: 1993 | B11: 41 | C11: 19 | D11: 46 | E11: 900 | F11: – | G11: 2500 | H11: 1653 | I11: 1500 | J11: 2290.3683
A12: 1994 | B12: 36 | C12: 14 | D12: 39 | E12: 800 | F12: – | G12: 4500 | H12: 2032 | I12: 1750 | J12: 2615.6111
A13: 1995 | B13: 39 | C13: 17 | D13: 44 | E13: 800 | F13: – | G13: 4500 | H13: 1997 | I13: 2000 | J13: 2917.6277
A14: 1996 | B14: 35 | C14: 17 | D14: 49 | E14: 350 | F14: – | G14: 3750 | H14: 1420 | I14: 1350 | J14: 1958.9485
A15: 1997 | B15: 30 | C15: 12 | D15: 40 | E15: 300 | F15: – | G15: 4800 | H15: 1720 | I15: 1250 | J15: 1801.9594
A16: 1998 | B16: 35 | C16: 14 | D16: 40 | E16: 550 | F16: – | G16: 4000 | H16: 1521 | I16: 1375 | J16: 1987.4709
A17: 1999 | B17: 32 | C17: 6 | D17: 19 | E17: 1000 | F17: – | G17: 2500 | H17: 1708 | I17: 1825 | J17: 2625.7718
... A40: 2022 | B40: 52 | C40: 25 | D40: 48.076923 | E40: 315 | F40: – | G40: 1500 | H40: 840.6 | I40: 900 | J40: 900
A42: Källa: CAN:s rapporteringssystem om droger.
A44: a) T.o.m. 1990 efterfrågades ”heroin” och 1993–1997 efterfrågades ”vanligt heroin” medan frågeformuleringen inte är känd för 1991–1992.

Sheet 7
H1: Till innehållsförteckningen
A2: Gatuprisutvecklingen för ecstasy i realprisjusterade medianpriser. Priser i kronor per tablett (inkl. antalet prissvar, prisintervall samt ursprungliga medel- och medianpriser). 2000–2022.
B3: Antal enkäter | C3: Svar | E3: Prisintervall | H3: Ursprungligt pris | J3: KPI-justerat medianpris
C4: Antal | D4: (%) | H4: Medel | I4: Median
A6: 2000 | B6: 21 | C6: 19 | D6: 90 | E6: 80 | F6: – | G6: 250 | H6: 159 | I6: 150 | J6: 213.89709
A7: 2001 | B7: 42 | C7: 40 | D7: 95 | E7: 80 | F7: – | G7: 200 | H7: 144 | I7: 150 | J7: 208.8678
A8: 2002 | B8: 39 | C8: 36 | D8: 92 | E8: 100 | F8: – | G8: 200 | H8: 137 | I8: 150 | J8: 204.45849
A9: 2003 | B9: 42 | C9: 41 | D9: 98 | E9: 60 | F9: – | G9: 200 | H9: 130 | I9: 125 | J9: 167.15958
A10: 2004 | B10: 42 | C10: 40 | D10: 95 | E10: 70 | F10: – | G10: 200 | H10: 120 | I10: 122 | J10: 162.54575
A11: 2005 | B11: 42 | C11: 41 | D11: 98 | E11: 60 | F11: – | G11: 150 | H11: 108 | I11: 100 | J11: 132.63079
A12: 2006 | B12: 42 | C12: 30 | D12: 71 | E12: 50 | F12: – | G12: 150 | H12: 104 | I12: 100 | J12: 130.85286
A13: 2007 | B13: 40 | C13: 32 | D13: 80 | E13: 50 | F13: – | G13: 200 | H13: 106 | I13: 100 | J13: 128.01969
A14: 2008 | B14: 42 | C14: 28 | D14: 67 | E14: 70 | F14: – | G14: 150 | H14: 112 | I14: 105 | J14: 129.95191
A15: 2009 | B15: 42 | C15: 22 | D15: 55 | E15: 50 | F15: – | G15: 200 | H15: 117 | I15: 117 | J15: 145.52513
A16: 2010 | B16: 41 | C16: 20 | D16: 48.780488 | E16: 70 | F16: – | G16: 155 | H16: 116 | I16: 120 | J16: 147.54918
A17: 2011 | B17: 42 | C17: 15 | D17: 36 | E17: 100 | F17: – | G17: 175 | H17: 117 | I17: 115 | J17: 137.33311
... A28: 2022 | B28: 52 | C28: 38 | D28: 73.076923 | E28: 30 | F28: – | G28: 250 | H28: 135.46 | I28: 125 | J28: 125
A30: Källa: CAN:s rapporteringssystem om droger.

Sheet 8
H1: Till innehållsförteckningen
A2: Gatuprisutvecklingen för LSD i realprisjusterade medianpriser. Priser i kronor per dos (inkl. antalet prissvar, prisintervall samt ursprungliga medel- och medianpriser). 2000–2022.
B3: Antal enkäter | C3: Svar | E3: Prisintervall | H3: Ursprungligt pris | J3: KPI-justerat medianpris
C4: Antal | D4: (%) | H4: Medel | I4: Median
A6: 2000 | B6: 21 | C6: 9 | D6: 43 | E6: 50 | F6: – | G6: 200 | H6: 103 | I6: 80 | J6: 114.07845
A7: 2001 | B7: 42 | C7: 15 | D7: 36 | E7: 50 | F7: – | G7: 130 | H7: 87 | I7: 100 | J7: 139.2452
A8: 2002 | B8: 39 | C8: 16 | D8: 41 | E8: 50 | F8: – | G8: 150 | H8: 96 | I8: 100 | J8: 136.30566
A9: 2003 | B9: 42 | C9: 14 | D9: 33 | E9: 50 | F9: – | G9: 100 | H9: 80 | I9: 90 | J9: 120.3549
A10: 2004 | B10: 42 | C10: 10 | D10: 24 | E10: 50 | F10: – | G10: 100 | H10: 85 | I10: 90 | J10: 119.9108
A11: 2005 | B11: 42 | C11: 4 | D11: 10 | E11: 50 | F11: – | G11: 70 | H11: 60 | I11: 60 | J11: 79.578474
A12: 2006 | B12: 42 | C12: 4 | D12: 10 | E12: 70 | F12: – | G12: 100 | H12: 85 | I12: 85 | J12: 111.22493
A13: 2007 | B13: 40 | C13: 9 | D13: 23 | E13: 70 | F13: – | G13: 150 | H13: 104 | I13: 100 | J13: 128.01969
A14: 2008 | B14: 42 | C14: 6 | D14: 14 | E14: 100 | F14: – | G14: 175 | H14: 121 | I14: 112 | J14: 138.61537
A15: 2009 | B15: 42 | C15: 8 | D15: 19 | E15: 90 | F15: – | G15: 150 | H15: 118 | I15: 112 | J15: 139.30611
A16: 2010 | B16: 41 | C16: 8 | D16: 19.512195 | E16: 100 | F16: – | G16: 130 | H16: 116 | I16: 122 | J16: 150.00833
A17: 2011 | B17: 42 | C17: 7 | D17: 17 | E17: 100 | F17: – | G17: 200 | H17: 139 | I17: 125 | J17: 149.27512
... A28: 2022 | B28: 52 | C28: 14 | D28: 26.923077 | E28: 85 | F28: – | G28: 400 | H28: 170.18 | I28: 150 | J28: 150
A30: Källa: CAN:s rapporteringssystem om droger.

Sheet 9
H1: Till innehållsförteckningen
A2: Gatupriset för tramadola). Pris i kronor per 100 milligram (inkl. antalet prissvar, prisintervall samt medel- och medianpriser). 2018–2022.
B3: Antal enkäter | C3: Svar | E3: Prisintervall | H3: Pris | J3: KPI-justerat medianpris
C4: Antal | D4: (%) | H4: Medel | I4: Median
A6: 2018 | B6: 53 | C6: 36 | D6: 68 | E6: 7 | F6: – | G6: 200 | H6: 32 | I6: 20 | J6: 22.649817
A7: 2019 | B7: 49 | C7: 39 | D7: 80 | E7: 10 | F7: – | G7: 200 | H7: 37 | I7: 25 | J7: 27.815922
A8: 2020 | B8: 53 | C8: 43 | D8: 81.132075 | E8: 8 | F8: – | G8: 150 | H8: 30.67 | I8: 25 | J8: 27.678465
A9: 2021 | B9: 51 | C9: 39 | D9: 76.470588 | E9: 10 | F9: – | G9: 100 | H9: 29.67 | I9: 25 | J9: 27.092136
A10: 2022 | B10: 52 | C10: 44 | D10: 84.615385 | E10: 8 | F10: – | G10: 200 | H10: 43.56 | I10: 28.75 | J10: 28.75
A12: Källa: CAN:s rapporteringssystem om droger.
A14: a) Läkemedelsnamn: Tramadol, Tradolan, Nobligan, m.fl.

Sheet 10
H1: Till innehållsförteckningen
A2: Gatupriset för alprazolama). Pris i kronor per 1 milligram (inkl. antalet prissvar, prisintervall samt medel- och medianpriser). 2018–2022.
B3: Antal enkäter | C3: Svar | E3: Prisintervall | H3: Pris | J3: KPI-justerat medianpris
C4: Antal | D4: (%) | H4: Medel | I4: Median
A6: 2018 | B6: 53 | C6: 26 | D6: 49 | E6: 5 | F6: – | G6: 55 | H6: 19 | I6: 18 | J6: 20.384836
A7: 2019 | B7: 49 | C7: 26 | D7: 53 | E7: 6 | F7: – | G7: 80 | H7: 19 | I7: 15 | J7: 16.689553
A8: 2020 | B8: 53 | C8: 32 | D8: 64 | E8: 1 | F8: – | G8: 83 | H8: 19.44 | I8: 16.25 | J8: 17.991002
A9: 2021 | B9: 51 | C9: 33 | D9: 64.705882 | E9: 1 | F9: – | G9: 40 | H9: 17.85 | I9: 18 | J9: 19.506338
A10: 2022 | B10: 52 | C10: 33 | D10: 63.461538 | E10: 1 | F10: – | G10: 50 | H10: 18.85 | I10: 20 | J10: 20
A12: Källa: CAN:s rapporteringssystem om droger.
A14: a) Läkemedelsnamn: Xanor, Alprazolam, Xanax, m.fl.

Sheet 11
D1: Till innehållsförteckningen
A2: Indexerad realprisjusterad mediangatuprisutveckling för hasch, marijuana, amfetamin, kokain och brunt heroin. 1988–2022. Index 1988=100.
B3: Hasch | C3: Marijuana | D3: Amfetamin | E3: Kokain | F3: Brunt heroin
A5: 1988 | B5: 100 | C5: 100 | D5: 100 | E5: 100 | F5: 100
A6: 1989 | B6: 79.856976 | C6: 49.447044 | D6: 93.949383 | E6: 105.69306 | F6: 110.52869
A7: 1990 | B7: 74.908951 | C7: 76.163407 | D7: 85.123808 | E7: 127.68571 | F7: 100.14566
A8: 1991 | B8: 66.112774 | C8: 53.217713 | D8: 77.779734 | E8: 97.224668 | F8: 91.50557
A9: 1992 | B9: 64.57778 | C9: 35.987617 | D9: 66.477126 | E9: 94.967323 | F9: 83.794697
A10: 1993 | B10: 65.291292 | C10: 53.454859 | D10: 65.654021 | E10: 90.68235 | F10: 64.011071
A11: 1994 | B11: 56.80987 | C11: 35.879918 | D11: 53.259253 | E11: 88.765422 | F11: 73.100936
A12: 1995 | B12: 62.379383 | C12: 62.014592 | D12: 51.982819 | E12: 86.638032 | F12: 81.541678
A13: 1996 | B13: 58.601249 | C13: 58.056964 | D13: 47.398069 | E13: 86.178307 | F13: 54.748571
A14: 1997 | B14: 54.792821 | C14: 66.328152 | D14: 51.36827 | E14: 94.175162 | F14: 50.361049
A15: 1998 | B15: 61.807229 | C15: 72.289157 | D15: 51.506024 | E15: 81.551205 | F15: 55.545712
A16: 1999 | B16: 61.522689 | C16: 61.162908 | D16: 44.433054 | E16: 93.992998 | F16: 73.384907
... A39: 2022 | B39: 53.687989 | C39: 62.515125 | D39: 23.755747 | E39: 53.450432 | F39: 25.153144
A41: Källa: CAN:s rapporteringssystem om droger.

Sheet 12
F1: Till innehållsförteckningen
A2: Indexerad realprisjusterad utveckling av gatupriset (medianvärden) för hasch, marijuana, amfetamin, kokain, brunt heroin, ecstasy och LSD. 2000–2022. Index 2000=100.
B3: Hasch | C3: Marijuana | D3: Amfetamin | E3: Kokain | F3: Brunt heroin | G3: Ecstasy | H3: LSD
A5: 2000 | B5: 100 | C5: 100 | D5: 100 | E5: 100 | F5: 100 | G5: 100 | H5: 100
A6: 2001 | B6: 97.648733 | C6: 100.52075 | D6: 97.648733 | E6: 108.49859 | F6: 97.648733 | G6: 97.648733 | H6: 122.06092
A7: 2002 | B7: 95.587319 | C7: 98.398711 | D7: 95.587319 | E7: 84.966506 | F7: 95.587319 | G7: 95.587319 | H7: 119.48415
A8: 2003 | B8: 93.77944 | C8: 96.537659 | D8: 93.77944 | E8: 83.359502 | F8: 103.15738 | G8: 78.149533 | H8: 105.50187
A9: 2004 | B9: 93.433403 | C9: 96.181444 | D9: 93.433403 | E9: 83.051913 | F9: 93.433403 | G9: 75.992501 | H9: 105.11258
A10: 2005 | B10: 93.010235 | C10: 109.42381 | D10: 93.010235 | E10: 82.675764 | F10: 111.61228 | G10: 62.006823 | H10: 69.757676
A11: 2006 | B11: 91.763423 | C11: 107.95697 | D11: 91.763423 | E11: 81.567487 | F11: 91.763423 | G11: 61.175615 | H11: 97.498637
A12: 2007 | B12: 89.7766 | C12: 105.61953 | D12: 80.79894 | E12: 79.801422 | F12: 89.7766 | G12: 59.851067 | H12: 112.22075
A13: 2008 | B13: 86.792013 | C13: 114.87178 | D13: 86.792013 | E13: 81.970235 | F13: 86.792013 | G13: 60.754409 | H13: 121.50882
A14: 2009 | B14: 89.40512 | C14: 128.27133 | D14: 87.224508 | E14: 77.532896 | F14: 95.946958 | G14: 68.035116 | H14: 122.11431
A15: 2010 | B15: 102.39425 | C15: 126.80402 | D15: 86.226733 | E15: 86.226733 | F15: 94.849407 | G15: 68.981387 | H15: 131.49577
A16: 2011 | B16: 104.68243 | C16: 123.1558 | D16: 83.745946 | E16: 83.745946 | F16: 83.745946 | G16: 64.205225 | H16: 130.85304
... A27: 2022 | B27: 99.054644 | C27: 128.91026 | D27: 56.101745 | E27: 70.127181 | F27: 63.114463 | G27: 58.439318 | H27: 131.48846
A29: Källa: CAN:s rapporteringssystem om droger.

Sheet 13
I1: Till innehållsförteckningen
A2: Grossistprisutvecklingen för hasch i realprisjusterade medianpriser. Priser i kronor per kilo (inkl. antalet prissvar, prisintervall samt ursprungliga medel- och medianpriser). 2010–2022.
B3: Antal enkäter | C3: Svar | E3: Prisintervall | H3: Ursprungligt pris | J3: KPI-justerat medianpris
C4: Antal | D4: (%) | H4: Medel | I4: Median
A6: 2010 | B6: 41 | C6: 27 | D6: =(C6/B6)*100 -> 65.853659 | E6: 20000 | F6: – | G6: 55000 | H6: 35148.15 | I6: 35000 | J6: 43035.177
A7: 2011 | B7: 42 | C7: 23 | D7: =(C7/B7)*100 -> 54.761905 | E7: 25000 | F7: – | G7: 60000 | H7: 36717.39 | I7: 37500 | J7: 44782.535
A8: 2012 | B8: 42 | C8: 22 | D8: =(C8/B8)*100 -> 52.380952 | E8: 17500 | F8: – | G8: 50000 | H8: 36590.91 | I8: 36250 | J8: 42908.14
A9: 2013 | B9: 42 | C9: 25 | D9: =(C9/B9)*100 -> 59.52381 | E9: 24000 | F9: – | G9: 80000 | H9: 43960 | I9: 40000 | J9: 47368.019
A10: 2014 | B10: 41 | C10: 19 | D10: =(C10/B10)*100 -> 46.341463 | E10: 30000 | F10: – | G10: 55000 | H10: 47763.158 | I10: 40000 | J10: 47454.145
A11: 2015 | B11: 47 | C11: 32 | D11: =(C11/B11)*100 -> 68.085106 | E11: 27500 | F11: – | G11: 80000 | H11: 48203.13 | I11: 45000 | J11: 53409.765
A12: 2016 | B12: 49 | C12: 28 | D12: =(C12/B12)*100 -> 57.142857 | E12: 13000 | F12: – | G12: 85000 | H12: 43794.643 | I12: 45000 | J12: 52889.897
A13: 2017 | B13: 54 | C13: 35 | D13: =(C13/B13)*100 -> 64.814815 | E13: 25000 | F13: – | G13: 80000 | H13: 47383.31 | I13: 45000 | J13: 51957.251
A14: 2018 | B14: 53 | C14: 43 | D14: =(C14/B14)*100 -> 81.132075 | E14: 25000 | F14: – | G14: 80000 | H14: 45842 | I14: 42500 | J14: 48130.862
A15: 2019 | B15: 49 | C15: 37 | D15: =(C15/B15)*100 -> 75.510204 | E15: 10000 | F15: – | G15: 60000 | H15: 35977 | I15: 35000 | J15: 38942.29
A16: 2020 | B16: 53 | C16: 43 | D16: 81.132075 | E16: 30000 | F16: – | G16: 90000 | H16: 53325.58 | I16: 52500 | J16: 58124.777
A17: 2021 | B17: 51 | C17: 37 | D17: 72.54902 | E17: 30000 | F17: – | G17: 70000 | H17: 50805.41 | I17: 50000 | J17: 54184.271
A18: 2022 | B18: 52 | C18: 43 | D18: 82.692308 | E18: 20000 | F18: – | G18: 65000 | H18: 42197.67 | I18: 40000 | J18: 40000
A20: Källa: CAN:s rapporteringssystem om droger.

Sheet 14
I1: Till innehållsförteckningen
A2: Grossistprisutvecklingen för marijuana i realprisjusterade medianpriser. Priser i kronor per kilo (inkl. antalet prissvar, prisintervall samt ursprungliga medel- och medianpriser). 2010–2022.
B3: Antal enkäter | C3: Svar | E3: Prisintervall | H3: Ursprungligt pris | J3: KPI-justerat medianpris
C4: Antal | D4: (%) | H4: Medel | I4: Median
A6: 2010 | B6: 41 | C6: 16 | D6: =(C6/B6)*100 -> 39.02439 | E6: 20000 | F6: – | G6: 60000 | H6: 41093.75 | I6: 37500 | J6: 46109.118
A7: 2011 | B7: 42 | C7: 11 | D7: =(C7/B7)*100 -> 26.190476 | E7: 27500 | F7: – | G7: 60000 | H7: 38954.55 | I7: 35000 | J7: 41797.033
A8: 2012 | B8: 42 | C8: 15 | D8: =(C8/B8)*100 -> 35.714286 | E8: 16500 | F8: – | G8: 70000 | H8: 41933.33 | I8: 40000 | J8: 47346.913
A9: 2013 | B9: 42 | C9: 18 | D9: =(C9/B9)*100 -> 42.857143 | E9: 24000 | F9: – | G9: 60000 | H9: 45666.67 | I9: 50000 | J9: 59210.024
A10: 2014 | B10: 41 | C10: 17 | D10: =(C10/B10)*100 -> 41.463415 | E10: 34000 | F10: – | G10: 90000 | H10: 53911.765 | I10: 55000 | J10: 65249.45
A11: 2015 | B11: 47 | C11: 30 | D11: =(C11/B11)*100 -> 63.829787 | E11: 27500 | F11: – | G11: 90000 | H11: 53500 | I11: 50000 | J11: 59344.184
A12: 2016 | B12: 49 | C12: 27 | D12: =(C12/B12)*100 -> 55.102041 | E12: 14000 | F12: – | G12: 76000 | H12: 48546.296 | I12: 50000 | J12: 58766.552
A13: 2017 | B13: 54 | C13: 30 | D13: =(C13/B13)*100 -> 55.555556 | E13: 10000 | F13: – | G13: 75000 | H13: 53933.33 | I13: 54500 | J13: 62926.004
A14: 2018 | B14: 53 | C14: 39 | D14: =(C14/B14)*100 -> 73.584906 | E14: 30000 | F14: – | G14: 75000 | H14: 52641 | I14: 55000 | J14: 62286.998
A15: 2019 | B15: 49 | C15: 31 | D15: =(C15/B15)*100 -> 63.265306 | E15: 27500 | F15: – | G15: 90000 | H15: 48710 | I15: 45000 | J15: 50068.659
A16: 2020 | B16: 53 | C16: 32 | D16: 60.377358 | E16: 30000 | F16: – | G16: 80000 | H16: 55021.88 | I16: 57500 | J16: 63660.47
A17: 2021 | B17: 51 | C17: 28 | D17: 54.901961 | E17: 35000 | F17: – | G17: 70000 | H17: 57310.71 | I17: 60000 | J17: 65021.125
A18: 2022 | B18: 52 | C18: 29 | D18: 55.769231 | E18: 32500 | F18: – | G18: 70000 | H18: 53586.21 | I18: 55000 | J18: 55000
A20: Källa: CAN:s rapporteringssystem om droger.

Sheet 15
I1: Till innehållsförteckningen
A2: Grossistprisutvecklingen för amfetamin i realprisjusterade medianpriser. Priser i kronor per kilo (inkl. antalet prissvar, prisintervall samt ursprungliga medel- och medianpriser). 2010–2022.
B3: Antal enkäter | C3: Svar | E3: Prisintervall | H3: Ursprungligt pris | J3: KPI-justerat medianpris
C4: Antal | D4: (%) | H4: Medel | I4: Median
A6: 2010 | B6: 41 | C6: 22 | D6: =(C6/B6)*100 -> 53.658537 | E6: 45000 | F6: – | G6: 140000 | H6: 81136.36 | I6: 70000 | J6: 86070.354
A7: 2011 | B7: 42 | C7: 14 | D7: =(C7/B7)*100 -> 33.333333 | E7: 45000 | F7: – | G7: 100000 | H7: 68214.29 | I7: 70000 | J7: 83594.066
A8: 2012 | B8: 42 | C8: 17 | D8: =(C8/B8)*100 -> 40.47619 | E8: 17500 | F8: – | G8: 150000 | H8: 73676.47 | I8: 70000 | J8: 82857.097
A9: 2013 | B9: 42 | C9: 13 | D9: =(C9/B9)*100 -> 30.952381 | E9: 25000 | F9: – | G9: 100000 | H9: 69038.46 | I9: 65000 | J9: 76973.031
A10: 2014 | B10: 41 | C10: 13 | D10: =(C10/B10)*100 -> 31.707317 | E10: 55000 | F10: – | G10: 150000 | H10: 90000 | I10: 90000 | J10: 106771.83
A11: 2015 | B11: 47 | C11: 28 | D11: =(C11/B11)*100 -> 59.574468 | E11: 35000 | F11: – | G11: 200000 | H11: 84428.57 | I11: 82500 | J11: 97917.903
A12: 2016 | B12: 49 | C12: 24 | D12: =(C12/B12)*100 -> 48.979592 | E12: 30000 | F12: – | G12: 100000 | H12: 66093.75 | I12: 65000 | J12: 76396.517
A13: 2017 | B13: 54 | C13: 25 | D13: =(C13/B13)*100 -> 46.296296 | E13: 30000 | F13: – | G13: 175000 | H13: 68816.68 | I13: 60000 | J13: 69276.334
A14: 2018 | B14: 53 | C14: 34 | D14: =(C14/B14)*100 -> 64.150943 | E14: 27000 | F14: – | G14: 175000 | H14: 69676 | I14: 60000 | J14: 67949.452
A15: 2019 | B15: 49 | C15: 30 | D15: =(C15/B15)*100 -> 61.22449 | E15: 22500 | F15: – | G15: 150000 | H15: 60800 | I15: 55000 | J15: 61195.028
A16: 2020 | B16: 53 | C16: 38 | D16: 71.698113 | E16: 32500 | F16: – | G16: 200000 | H16: 70421.05 | I16: 55000 | J16: 60892.623
A17: 2021 | B17: 51 | C17: 33 | D17: 64.705882 | E17: 19000 | F17: – | G17: 90000 | H17: 47128.79 | I17: 47500 | J17: 51475.058
A18: 2022 | B18: 52 | C18: 28 | D18: 53.846154 | E18: 13000 | F18: – | G18: 200000 | H18: 48571.43 | I18: 45000 | J18: 45000
A20: Källa: CAN:s rapporteringssystem om droger.

Sheet 16
I1: Till innehållsförteckningen
A2: Grossistprisutvecklingen för kokain i realprisjusterade medianpriser. Priser i kronor per kilo (inkl. antalet prissvar, prisintervall samt ursprungliga medel- och medianpriser). 2010–2022.
B3: Antal enkäter | C3: Svar | E3: Prisintervall | H3: Ursprungligt pris | J3: KPI-justerat medianpris
C4: Antal | D4: (%) | H4: Medel | I4: Median
A6: 2010 | B6: 41 | C6: 9 | D6: =(C6/B6)*100 -> 21.95122 | E6: 190000 | F6: – | G6: 500000 | H6: 351666.67 | I6: 375000 | J6: 461091.18
A7: 2011 | B7: 42 | C7: 7 | D7: =(C7/B7)*100 -> 16.666667 | E7: 200000 | F7: – | G7: 500000 | H7: 353571.43 | I7: 350000 | J7: 417970.33
A8: 2012 | B8: 42 | C8: 6 | D8: =(C8/B8)*100 -> 14.285714 | E8: 300000 | F8: – | G8: 450000 | H8: 366666.67 | I8: 350000 | J8: 414285.49
A9: 2013 | B9: 42 | C9: 10 | D9: =(C9/B9)*100 -> 23.809524 | E9: 90000 | F9: – | G9: 600000 | H9: 320500 | I9: 287500 | J9: 340457.64
A10: 2014 | B10: 41 | C10: 8 | D10: =(C10/B10)*100 -> 19.512195 | E10: 90000 | F10: – | G10: 600000 | H10: 341250 | I10: 300000 | J10: 355906.09
A11: 2015 | B11: 47 | C11: 13 | D11: =(C11/B11)*100 -> 27.659574 | E11: 90000 | F11: – | G11: 500000 | H11: 339615.38 | I11: 350000 | J11: 415409.29
A12: 2016 | B12: 49 | C12: 12 | D12: =(C12/B12)*100 -> 24.489796 | E12: 350000 | F12: – | G12: 500000 | H12: 410291.67 | I12: 400000 | J12: 470132.41
A13: 2017 | B13: 54 | C13: 20 | D13: =(C13/B13)*100 -> 37.037037 | E13: 65000 | F13: – | G13: 700000 | H13: 403658.35 | I13: 400000 | J13: 461842.23
A14: 2018 | B14: 53 | C14: 25 | D14: =(C14/B14)*100 -> 47.169811 | E14: 250000 | F14: – | G14: 650000 | H14: 385600 | I14: 370000 | J14: 419021.62
A15: 2019 | B15: 49 | C15: 17 | D15: =(C15/B15)*100 -> 34.693878 | E15: 82500 | F15: – | G15: 500000 | H15: 362500 | I15: 360000 | J15: 400549.27
A16: 2020 | B16: 53 | C16: 27 | D16: 50.943396 | E16: 250000 | F16: – | G16: 825000 | H16: 463222.22 | I16: 425000 | J16: 470533.91
A17: 2021 | B17: 51 | C17: 24 | D17: 47.058824 | E17: 70000 | F17: – | G17: 435000 | H17: 371250 | I17: 400000 | J17: 433474.17
A18: 2022 | B18: 52 | C18: 24 | D18: 46.153846 | E18: 240000 | F18: – | G18: 550000 | H18: 384687.5 | I18: 395000 | J18: 395000
A20: Källa: CAN:s rapporteringssystem om droger.

Sheet 17
I1: Till innehållsförteckningen
A2: Grossistprisutvecklingen för brunt heroin i realprisjusterade medianpriser. Priser i kronor per kilo (inkl. antalet prissvar, prisintervall samt ursprungliga medel- och medianpriser). 2010–2022.
B3: Antal enkäter | C3: Svar | E3: Prisintervall | H3: Ursprungligt pris | J3: KPI-justerat medianpris
C4: Antal | D4: (%) | H4: Medel | I4: Median
A6: 2010 | B6: 41 | C6: 5 | D6: =(C6/B6)*100 -> 12.195122 | E6: 200000 | F6: – | G6: 450000 | H6: 320000 | I6: 300000 | J6: 368872.95
A7: 2011 | B7: 42 | C7: 5 | D7: =(C7/B7)*100 -> 11.904762 | E7: 250000 | F7: – | G7: 375000 | H7: 325000 | I7: 350000 | J7: 417970.33
A8: 2012 | B8: 42 | C8: 5 | D8: =(C8/B8)*100 -> 11.904762 | E8: 250000 | F8: – | G8: 500000 | H8: 354000 | I8: 300000 | J8: 355101.85
A9: 2013 | B9: 42 | C9: 3 | D9: =(C9/B9)*100 -> 7.1428571 | E9: 300000 | F9: – | G9: 450000 | H9: 366666.67 | I9: 350000 | J9: 414470.16
A10: 2014 | B10: 41 | C10: 2 | D10: =(C10/B10)*100 -> 4.8780488 | E10: 375000 | F10: – | G10: 450000 | H10: 412500 | I10: 412500 | J10: 489370.87
A11: 2015 | B11: 47 | C11: 2 | D11: =(C11/B11)*100 -> 4.2553191 | E11: 300000 | F11: – | G11: 350000 | H11: 325000 | I11: 325000 | J11: 385737.19
A12: 2016 | B12: 49 | C12: 1 | D12: =(C12/B12)*100 -> 2.0408163 | E12: 500000 | F12: – | G12: 500000 | H12: 500000 | I12: 500000 | J12: 587665.52
A13: 2017 | B13: 54 | C13: 1 | D13: =(C13/B13)*100 -> 1.8518519 | E13: 450000 | F13: – | G13: 450000 | H13: 450000 | I13: 450000 | J13: 519572.51
A14: 2018 | B14: 53 | C14: 4 | D14: =(C14/B14)*100 -> 7.5471698 | E14: 175000 | F14: – | G14: 400000 | H14: 237500 | I14: 187500 | J14: 212342.04
A15: 2019 | B15: 49 | C15: 3 | D15: =(C15/B15)*100 -> 6.122449 | E15: 250000 | F15: – | G15: 300000 | H15: 283333 | I15: 300000 | J15: 333791.06
A16: 2020 | B16: 53 | C16: 3 | D16: 5.6603774 | E16: 300000 | F16: – | G16: 400000 | H16: 350000 | I16: 350000 | J16: 387498.51
A17: 2021 | B17: 51 | C17: - | D17: 0 | E17: . | F17: – | G17: . | H17: . | I17: . | J17: .
A18: 2022 | B18: 52 | C18: 1 | D18: 1.9230769 | E18: 400000 | F18: – | G18: 400000 | H18: 400000 | I18: 400000 | J18: 400000
A20: Källa: CAN:s rapporteringssystem om droger.

Sheet 18
I1: Till innehållsförteckningen
A2: Grossistprisutvecklingen för ecstasy i realprisjusterade medianpriser. Priser i kronor per tusental tabletter (inkl. antalet prissvar, prisintervall samt ursprungliga medel- och medianpriser). 2010–2022.
B3: Antal enkäter | C3: Svar | E3: Prisintervall | H3: Ursprungligt pris | J3: KPI-justerat medianpris
C4: Antal | D4: (%) | H4: Medel | I4: Median
A6: 2010 | B6: 41 | C6: 3 | D6: =(C6/B6)*100 -> 7.3170732 | E6: 25000 | F6: – | G6: 50000 | H6: 33333.33 | I6: 25000 | J6: 30739.412
A7: 2011 | B7: 42 | C7: 2 | D7: =(C7/B7)*100 -> 4.7619048 | E7: 25000 | F7: – | G7: 70000 | H7: 47500 | I7: 47500 | J7: 56724.545
A8: 2012 | B8: 42 | C8: - | D8: 0 | E8: . | G8: - | H8: . | I8: . | J8: -
A9: 2013 | B9: 42 | C9: 1 | D9: =(C9/B9)*100 -> 2.3809524 | E9: 75000 | F9: – | G9: 75000 | H9: 75000 | I9: 75000 | J9: 88815.035
A10: 2014 | B10: 41 | C10: 2 | D10: =(C10/B10)*100 -> 4.8780488 | E10: 100000 | F10: – | G10: 100000 | H10: 100000 | I10: 100000 | J10: 118635.36
A11: 2015 | B11: 47 | C11: 3 | D11: =(C11/B11)*100 -> 6.3829787 | E11: 37500 | F11: – | G11: 47500 | H11: 43333.33 | I11: 45000 | J11: 53409.765
A12: 2016 | B12: 49 | C12: 5 | D12: =(C12/B12)*100 -> 10.204082 | E12: 32500 | F12: – | G12: 40000 | H12: 37000 | I12: 37500 | J12: 44074.914
A13: 2017 | B13: 54 | C13: 8 | D13: =(C13/B13)*100 -> 14.814815 | E13: 10000 | F13: – | G13: 120000 | H13: 51250 | I13: 40000 | J13: 46184.223
A14: 2018 | B14: 53 | C14: 9 | D14: =(C14/B14)*100 -> 16.981132 | E14: 10000 | F14: – | G14: 100000 | H14: 58333 | I14: 50000 | J14: 56624.543
A15: 2019 | B15: 49 | C15: 8 | D15: =(C15/B15)*100 -> 16.326531 | E15: 15000 | F15: – | G15: 150000 | H15: 60000 | I15: 50000 | J15: 55631.843
A16: 2020 | B16: 53 | C16: 5 | D16: 9.4339623 | E16: 16000 | F16: – | G16: 70000 | H16: 34200 | I16: 25000 | J16: 27678.465
A17: 2021 | B17: 51 | C17: 3 | D17: 5.8823529 | E17: 25000 | F17: – | G17: 125000 | H17: 58333.33 | I17: 25000 | J17: 27092.136
A18: 2022 | B18: 52 | C18: 3 | D18: 5.7692308 | E18: 25000 | F18: – | G18: 25000 | H18: 25000 | I18: 25000 | J18: 25000
A20: Källa: CAN:s rapporteringssystem om droger.

Sheet 19
I1: Till innehållsförteckningen
A2: Cannabisbeslag av tull och polis. Kilo. 2018–2022.
B3: Polis | D3: Tull | G3: Totalt
B4: Hasch | C4: Marijuana | D4: Hasch | E4: Marijuana | G4: Hasch | H4: Marijuana | I4: Cannabis totalt | J4: Hasch-andel (%)
A6: 2018 | B6: 2039 | C6: 697 | D6: 684 | E6: 242 | G6: =B6+D6 -> 2723 | H6: =C6+E6 -> 939 | I6: =G6+H6 -> 3662 | J6: 74.358274
A7: 2019 | B7: 1017 | C7: 658 | D7: 759 | E7: 356 | G7: =B7+D7 -> 1776 | H7: =C7+E7 -> 1014 | I7: =G7+H7 -> 2790 | J7: 63.655914
A8: 2020 | B8: 1416 | C8: 1491 | D8: 3139 | E8: 745 | G8: =B8+D8 -> 4555 | H8: =C8+E8 -> 2236 | I8: =G8+H8 -> 6791 | J8: 67.074069
A9: 2021a) | B9: 2346 | C9: 1088 | D9: 2075 | E9: 1168 | G9: =B9+D9 -> 4421 | H9: =C9+E9 -> 2256 | I9: =G9+H9 -> 6677 | J9: 66.212371
A10: 2022 | B10: 3838 | C10: 1707 | D10: 1849 | E10: 436 | G10: =B10+D10 -> 5687 | H10: =C10+E10 -> 2143 | I10: =G10+H10 -> 7830 | J10: 72.824388
A12: Genomsnitt | B12: =AVERAGE(B6:B10) -> 2131.2 | C12: =AVERAGE(C6:C10) -> 1128.2 | D12: =AVERAGE(D6:D10) -> 1701.2 | E12: =AVERAGE(E6:E10) -> 589.4 | G12: =AVERAGE(G6:G10) -> 3832.4 | H12: =AVERAGE(H6:H10) -> 1717.6 | I12: =AVERAGE(I6:I10) -> 5550 | J12: =AVERAGE(J6:J10) -> 68.825003
A14: Källa: Polismyndigheten och Tullverket.
A15: a) Tidigare preliminär beslagsstatistik från polisen (NFC) har reviderats något för 2021.

Sheet 20
P1: Till innehållsförteckningen
A2: Amfetamin-, kokain, ecstasy, heroin- och läkemdelsbeslag av tull och polis. Kilo resp. 1000-tal tabletter. För vissa tullbeslag har mängderna räknats upp. 2018–2022.
B3: Polis | H3: Tull | J3: Tull | N3: Totaltb)
B4: Amfeta-min | C4: Kokain | D4: Ecs-tasy | E4: Heroin | F4: Läkemedel | H4: Amfeta-min | I4: Kokain | J4: Ecs-tasy | K4: Heroin | L4: Läkemedel | N4: Amfeta-min | O4: Kokain | P4: Ecs-tasy | Q4: Heroin | R4: Läkemedel
A6: 2018 | B6: 851.5 | C6: 55.86 | D6: 156.765 | E6: 4.3 | F6: 2005.595 | H6: 198.1 | I6: 488c) | J6: 34.798 | K6: 71 | L6: 1164.961 | N6: 1049.6 | O6: 166.96 | P6: =D6+J6 -> 191.563 | Q6: 103.7 | R6: =F6+L6 -> 3170.556
A7: 2019 | B7: 667.2 | C7: 79.4 | D7: 523.301 | E7: 4.86 | F7: 2784.8877 | H7: 334.6 | I7: 43 | J7: 61.26 | K7: 60 | L7: 2803.495 | N7: 1001.8 | O7: 126.7 | P7: =D7+J7 -> 584.561 | Q7: 88.86 | R7: =F7+L7 -> 5588.3827
A8: 2020 | B8: 1021.9 | C8: 373 | D8: 215 | E8: 16.54 | F8: 3000.3693 | H8: 221.1 | I8: 216 | J8: 17.148 | K8: 22 | L8: 1852.037 | N8: 1243 | O8: 610.6 | P8: =D8+J8 -> 232.148 | Q8: 47.34 | R8: =F8+L8 -> 4852.4063
A9: 2021a) | B9: 1220.1265 | C9: 136 | D9: 123 | E9: 10.3 | F9: 3211.332 | H9: 332 | I9: 261 | J9: 25.498 | K9: 1.04 | L9: 1802.726 | N9: 1552.1265 | O9: 423.1 | P9: =D9+J9 -> 148.498 | Q9: 11.756 | R9: =F9+L9 -> 5014.058
A10: 2022 | B10: 1330.2 | C10: 192 | D10: 67.6 | E10: 9.6 | F10: 2402.8831 | H10: 549.2 | I10: 822d) | J10: 35.266 | K10: 8.27 | L10: 3734.721 | N10: 1879.2 | O10: 454.9 | P10: =D10+J10 -> 102.866 | Q10: 21.178 | R10: =F10+L10 -> 6137.6041
A12: Genomsnitt | B12: =AVERAGE(B6:B10) -> 1018.1853 | C12: =AVERAGE(C6:C10) -> 167.252 | D12: =AVERAGE(D6:D10) -> 217.1332 | E12: =AVERAGE(E6:E10) -> 9.12 | F12: =AVERAGE(F6:F10) -> 2681.0134 | H12: =AVERAGE(H6:H10) -> 327 | I12: =(101+43+216+261+239)/5 -> 172 | J12: =AVERAGE(J6:J10) -> 34.794 | K12: =AVERAGE(K6:K10) -> 32.462 | L12: =AVERAGE(L6:L10) -> 2271.588 | N12: =AVERAGE(N6:N10) -> 1345.1453 | O12: =AVERAGE(O6:O10) -> 356.452 | P12: =AVERAGE(P6:P10) -> 251.9272 | Q12: =AVERAGE(Q6:Q10) -> 54.5668 | R12: =AVERAGE(R6:R10) -> 4952.6014
A14: Källa: Polismyndigheten och Tullverket.
A16: a) Tidigare preliminär beslagsstatistik från polisen (NFC) har reviderats något för 2021.
A17: b) Tullens kokain- respektive heroinbeslag har räknats upp med 1,1 resp. 1,4 pga. lägre halter på gatunivå.
A18: c) Detta värde har uteslutits ur medelvärdesberäkningarna pga. att det avviker kraftigt från de övriga och kan misstänkas handla om transitbeslag. Istället imputeras det med medelvärdet av de två föregående respektive efterkommande åren.
A19: d) Detta värde har uteslutits ur medelvärdesberäkningarna pga. att det avviker kraftigt från de övriga och kan misstänkas handla om transitbeslag (500 kilo togs i ett containerbeslag). Istället har medelvärdet av de två föregående åren imputeras .

Sheet 21
F1: Till innehållsförteckningen
A2: Inflationsjusterade gatupriser, kronor per gram för hasch, marijuana, amfteamin, kokain och heroin respektive per tablett för ecstasy och läkemedel. 2018–2022.
B3: Hasch | C3: Mari-juana | D3: Amfeta-min | E3: Kokain | F3: Heroin a) | G3: Ecstasy | H3: Läkemedel b)
A5: 2018 | B5: 113.24909 | C5: 135.8989 | D5: 271.79781 | E5: 1019.2418 | F5: 1019.2418 | G5: 169.87363 | H5: 44.529988
A6: 2019 | B6: 111.26369 | C6: 127.95324 | D6: 222.52737 | E6: 995.81 | F6: 951.49636 | G6: 166.89553 | H6: 46.028837
A7: 2020 | B7: 138.39233 | C7: 138.39233 | D7: 221.42772 | E7: 996.42474 | F7: 939.39033 | G7: 166.07079 | H7: 46.190633
A8: 2021 | B8: 122.45645 | C8: 135.46068 | D8: 216.73708 | E8: 975.31688 | F8: 1000.6029 | G8: 162.55281 | H8: 46.25378
A9: 2022 | B9: 113 | C9: 125 | D9: 200 | E9: 900 | F9: 900 | G9: 125 | H9: 47.5
A11: Genomsnitt | B11: =AVERAGE(B5:B9) -> 119.67231 | C11: =AVERAGE(C5:C9) -> 132.54103 | D11: =AVERAGE(D5:D9) -> 226.498 | E11: =AVERAGE(E5:E9) -> 977.35868 | F11: =AVERAGE(F5:F9) -> 962.14627 | G11: =AVERAGE(G5:G9) -> 158.07855 | H11: =AVERAGE(H5:H9) -> 46.100648
A13: Källa: CAN:s rapporteringssystem om droger.
A15: a) Viktat pris mellan vitt och brunt heroin med hänsyn till rapporteringsfrekvenserna.
A16: b) Skattat pris där tramadol och alprazolam vägts samman och där den typen av läkemedel antagits utgöra 90 % av konsumtiosvolymen, medan väsentligt dyrare opioidläkemedel antagits utgöra 10% av konsumtionen.

Sheet 22
I1: Till innehållsförteckningen
A2: Gatuprisutvecklingen för smugglad tobak och alkohol i realprisjusterade medianpriser. Priser i kronor per limpaa), liter resp. flakb) (inkl. antalet prissvar, prisintervall samt ursprungliga medel- och medianpriser). 2017–2022.
B3: Antal enkäter | C3: Svar | E3: Prisintervall | H3: Medel-värde | I3: Median-värde | J3: KPI-justerat medianpris
C4: Antal | D4: (%)
A6: Cigaretter (kr/limpa)
A7: 2017 | B7: 54 | C7: 8 | D7: =(C7/54)*100 -> 14.814815 | E7: 150 | F7: – | G7: 440 | H7: 270 | I7: 250 | J7: 288.65139
A8: 2018 | B8: 53 | C8: 13 | D8: =(C8/53)*100 -> 24.528302 | E8: 200 | F8: – | G8: 400 | H8: 287 | I8: 275 | J8: 311.43499
A9: 2019 | B9: 49 | C9: 5 | D9: =C9/B9*100 -> 10.204082 | E9: 200 | F9: – | G9: 350 | H9: 285 | I9: 275 | J9: 305.97514
A10: 2020 | B10: 53 | C10: 8 | D10: 15.09434 | E10: 200 | F10: – | G10: 350 | H10: 262.5 | I10: 250 | J10: 276.78465
A11: 2021 | B11: 51 | C11: 12 | D11: 23.529412 | E11: 200 | F11: – | G11: 450 | H11: 302.5 | I11: 275 | J11: 298.01349
A12: 2022 | B12: 52 | C12: 9 | D12: 17.307692 | E12: 200 | F12: – | G12: 450 | H12: 342.22 | I12: 350 | J12: 350
A14: Sprit (kr/liter)
A15: 2017 | B15: 54 | C15: 24 | D15: =(C15/54)*100 -> 44.444444 | E15: 100 | F15: – | G15: 200 | H15: 149 | I15: 150 | J15: 173.19084
A16: 2018 | B16: 53 | C16: 28 | D16: =(C16/53)*100 -> 52.830189 | E16: 100 | F16: – | G16: 250 | H16: 163 | I16: 150 | J16: 169.87363
A17: 2019 | B17: 49 | C17: 20 | D17: =C17/B17*100 -> 40.816327 | E17: 100 | F17: – | G17: 300 | H17: 154 | I17: 150 | J17: 166.89553
A18: 2020 | B18: 53 | C18: 18 | D18: 33.962264 | E18: 100 | F18: – | G18: 300 | H18: 157.08 | I18: 150 | J18: 166.07079
A19: 2021 | B19: 51 | C19: 18 | D19: 35.294118 | E19: 100 | F19: – | G19: 250 | H19: 170.56 | I19: 162.5 | J19: 176.09888
A20: 2022 | B20: 52 | C20: 16 | D20: 30.769231 | E20: 80 | F20: – | G20: 200 | H20: 153.44 | I20: 172.5 | J20: 172.5
A22: Starköl (kr/flak)
A23: 2017 | B23: 54 | C23: 20 | D23: =(C23/54)*100 -> 37.037037 | E23: 100 | F23: – | G23: 250 | H23: 168 | I23: 150 | J23: 173.19084
A24: 2018 | B24: 53 | C24: 25 | D24: =(C24/53)*100 -> 47.169811 | E24: 150 | F24: – | G24: 215 | H24: 173 | I24: 175 | J24: 198.1859
A25: 2019 | B25: 49 | C25: 14 | D25: =C25/B25*100 -> 28.571429 | E25: 140 | F25: – | G25: 250 | H25: 180 | I25: 175 | J25: 194.71145
A26: 2020 | B26: 53 | C26: 12 | D26: 22.641509 | E26: 150 | F26: – | G26: 225 | H26: 183.75 | I26: 180 | J26: 199.28495
A27: 2021 | B27: 51 | C27: 14 | D27: 27.45098 | E27: 150 | F27: – | G27: 200 | H27: 169.29 | I27: 165 | J27: 178.80809
A28: 2022 | B28: 52 | C28: 16 | D28: 30.769231 | E28: 150 | F28: – | G28: 200 | H28: 187.5 | I28: 200 | J28: 200
A30: Källa: CAN:s rapporteringssystem om droger.
A32: a) En limpa motsvarar 200 cigaretter.
A33: b) Ett flak motsvarar 24*33 cl, dvs. cirka 8 liter.
