Workbook

Sheet Försättsblad
B18: Tobaksvanor i Sverige 2003-2020
B20: Tabellbilaga till CAN rapport 206

Sheet Förklaringar
A4: Beskrivning: | B4: Denna Excelfil utgörs av tabeller innehållande data hämtade från CAN:s årliga Monitormätningar. Det övergripande syftet med undersökningen är att mäta den totala alkohol- och tobakskonsumtionen i Sverige, inklusive de delar som kommer från oregistrerade källor. Frågor om konsumtionsvanorna har succesivt införts i mätningarna.
A6: Begrepp: | B6: Ett flertal olika begrepp förekommer vilka får sin definition i respektive tabell. Eftersöks djupare förklaringar hänvisas till de Monitorrapporter som kan laddas ner från www.can.se
A8: Tecken/märkning: | B8: Förklaring:
A9: - | B9: Ingen frekvens (dvs. ingen respondent har angett svarsalternativet).
A10: .. | B10: Uppgift saknas eller är för osäker för att återges (t.ex. då respondentunderlaget understiger 50 individer).
A11: . | B11: Uppgift finns ej (pga. frågan inte har ställts, etc).
A12: 0 | B12: Procenttal avrundat till 0 (dvs. svarsalternativet har angetts av minst en respondent men färre än 0,5 procent).
A13: n= | B13: Antal respondenter (bastal för beräkningen) i tabeller där filtreringar av totalmaterialet gjorts.
A15: Kontakt: | B15: martina.zetterqvist@can.se, mats.ramstedt@can.se
A17: Publicerat: | B17: 2021-12-17

Sheet Förteckning
B2: Förteckning
A3: Tabell 1 | B3: ='1'!A2 -> Antal respondenter efter ålder och kön samt svarsbortfall i procent. 2002–2020.
A4: Tabell 2 | B4: ='2'!A2 -> Anskaffning av cigaretter per invånare 15 år och äldre. 2003–2020.
A5: Tabell 3 | B5: ='3'!A2 -> Årlig anskaffning av snus i antal kg per invånare 15 år och äldre. 2003–2020.
A6: Tabell 4 | B6: ='4'!A2 -> Årlig anskaffning av snus i antal dosor per invånare 15 år och äldre. 2003–2020.
A7: Tabell 5 | B7: ='5'!A2 -> Andelen som tagit in cigaretter och snus i samband med utlandsresor samt har köpt smuggelcigaretter under de senaste 30 dagarna i befolkningen 17–84a) år. 2003–2020.
A8: Tabell 6 | B8: ='6'!A2 -> Andelen som ej rökt cigaretter eller snusat de senaste 30 dagarna i befolkningen 17–84a) år, efter åldersgrupper och kön. 2007–2020.
A9: Tabell 7 | B9: ='7'!A2 -> Andelen som; rökt och/eller snusat totalt, använt en ensam produkt (cigaretter eller snus), respektive använt både och de senaste 30 dagarna i befolkningen 17–84a) år, efter åldersgrupper och kön. 2007–2020.
A10: Tabell 8 | B10: ='8'!A2 -> Andelen som rökt minst en cigarett de senaste 30 dagarna i befolkningen 17–84a) år, efter åldersgrupper och kön. 2003–2020.
A11: Tabell 9 | B11: ='9'!A2 -> Andelen som rökt dagligen de senaste 30 dagarna i befolkningen 17–84a) år, efter åldersgrupper och kön. 2003–2020.
A12: Tabell 10 | B12: ='10'!A2 -> Andelen som rökt sporadiskt de senaste 30 dagarna i befolkningen 17–84a) år, efter åldersgrupper och kön. 2003–2020.
A13: Tabell 11 | B13: ='11'!A2 -> Självrapporterad årskonsumtion av antal cigaretter (medelvärde) per rökare 17–84a) år, efter åldersgrupper och kön. 2003–2020.
A14: Tabell 12 | B14: ='12'!A2 -> Självrapporterad dag-/veckokonsumtion av antal cigaretter (medelvärde) per rökare totalt, dagligrökare samt sporadisk rökare 17–84a) år, efter kön. 2003–2020.
A15: Tabell 13 | B15: ='13'!A2 -> Självrapporterad årskonsumtion av antal cigaretter (medelvärde) i befolkningen 17–84a) år, efter åldersgrupper och kön. 2003–2020.
A16: Tabell 14 | B16: ='14'!A2 -> Andelen som snusat minst någon gång under de senaste 30 dagarna i befolkningen 17–84a) år, efter åldersgrupper och kön. 2007–2020.
A17: Tabell 15 | B17: ='15'!A2 -> Andelen som snusat dagligen de senaste 30 dagarna i befolkningen 17–84a) år, efter åldersgrupper och kön. 2007–2020.
A18: Tabell 16 | B18: ='16'!A2 -> Andelen som snusat sporadiskt de senaste 30 dagarna i befolkningen 17–84a) år, efter åldersgrupper och kön 2007–2020.
A19: Tabell 17 | B19: ='17'!A2 -> Självrapporterad vecko-/årskonsumtion av antal snusdosor (medelvärde) per snusare totalt, dagligsnusare samt sporadiska snusare 17–84a) år, efter kön. 2007–2020.
A20: Tabell 18 | B20: ='18'!A2 -> Självrapporterad årskonsumtion av antal snusdosor (medelvärde) per snusarea) 17–84b) år, efter åldersgrupper och kön. 2007–2020.
A21: Tabell 19 | B21: ='19'!A2 -> Självrapporterad årskonsumtion av antal snusdosor (medelvärde)a) i befolkningen 17–84b) år, efter åldersgrupper och kön. 2007–2020.
A22: Tabell 20 | B22: ='20'!A2 -> Andelen som använt e-cigaretter minst någon gång de senaste 30 dagarna i befolkningen 17–84 år, efter åldersgrupper och kön. 2017–2020.
A23: Tabell 21 | B23: ='21'!A2 -> Andelen som använt e-cigaretter dagligen de senaste 30 dagarna i befolkningen 17–84 år, efter åldersgrupper och kön. 2017–2020.
A24: Tabell 22 | B24: ='22'!A2 -> Andelen som använt e-cigaretter sporadiskt de senaste 30 dagarna i befolkningen 17–84 år, efter åldersgrupper och kön. 2017–2020.
A1048575: Tabell 1

Sheet 1
A2: Antal respondenter efter ålder och kön samt svarsbortfall i procent. 2002–2020.
B3: 17–29 år | C3: 30–49 år | D3: 50–64 år | E3: 65–84 åra) | F3: Män | G3: Kvinnor | H3: Alla | I3: Svarsbort-fall (%) f,g)
A5: 2002 | B5: 3970 | C5: 6535 | D5: 4432 | E5: 2872 | F5: 8512 | G5: 9297 | H5: 17809 | I5: ..
A6: 2003 | B6: 3828 | C6: 6515 | D6: 4621 | E6: 2843 | F6: 8355 | G6: 9452 | H6: 17807 | I6: 50
A7: 2004 b) | B7: 2719 | C7: 4888 | D7: 3574 | E7: 2161 | F7: 6221 | G7: 7121 | H7: 13342 | I7: 55
A8: 2005 | B8: 3195 | C8: 6682 | D8: 4849 | E8: 3109 | F8: 8393 | G8: 9442 | H8: 17835 | I8: 48
A9: 2006 | B9: 3061 | C9: 6389 | D9: 4985 | E9: 3348 | F9: 8346 | G9: 9437 | H9: 17783 | I9: 50
A10: 2007 | B10: 2598 | C10: 6569 | D10: 5119 | E10: 3466 | F10: 8153 | G10: 9599 | H10: 17752 | I10: 53
A11: 2008 | B11: 2263 | C11: 6471 | D11: 5193 | E11: 3842 | F11: 8121 | G11: 9648 | H11: 17769 | I11: 56
A12: 2009 | B12: 2086 | C12: 6238 | D12: 5296 | E12: 4174 | F12: 8157 | G12: 9637 | H12: 17794 | I12: 58
A13: 2010 | B13: 2147 | C13: 5961 | D13: 5102 | E13: 4572 | F13: 8103 | G13: 9679 | H13: 17782 | I13: 61
A14: 2011 | B14: 2871 | C14: 5655 | D14: 4597 | E14: 4686 | F14: 8127 | G14: 9682 | H14: 17809 | I14: 60
A15: 2012 | B15: 2480 | C15: 5683 | D15: 4562 | E15: 5030 | F15: 8247 | G15: 9508 | H15: 17755 | I15: 62
A16: 2013 c) | B16: 1261 | C16: 2617 | D16: 2288 | E16: 2749 | F16: 4096 | G16: 4819 | H16: 8915 | I16: 65
A17: 2014 d) | B17: 2972 | C17: 4785 | D17: 3995 | E17: 4392 | F17: 7667 | G17: 8477 | H17: 16144 | I17: 67
A18: 2015 e) | B18: 3213 | C18: 5361 | D18: 4163 | E18: 4982 | F18: 8675 | G18: 8988 | H18: 17719 | I18: 73
A19: 2016 e) | B19: 3232 | C19: 5339 | D19: 4230 | E19: 5204 | F19: 8821 | G19: 9160 | H19: 18005 | I19: 74
A20: 2017 | B20: 3239 | C20: 5441 | D20: 4062 | E20: 5384 | F20: 8921 | G20: 9205 | H20: 18126 | I20: 74
A21: 2018 h) | B21: 3004 | C21: 5148 | D21: 4062 | E21: 5873 | F21: 8931 | G21: 9156 | H21: 18087 | I21: 74
A22: 2019A h) i) | B22: 2945 | C22: 5178 | D22: 4247 | E22: 6106 | F22: 9239 | G22: 9237 | H22: 18476 | I22: 72
A23: 2019B h) i) | B23: 1651 | C23: 2732 | D23: 2074 | E23: 2705 | F23: 4206 | G23: 4956 | H23: 9162 | I23: 71
A24: 2020 h) | B24: 3021 | C24: 5289 | D24: 4292 | E24: 5778 | F24: 8213 | G24: 10167 | H24: 18380 | I24: 67
A26: a) Övre åldersgräns 80 år t.o.m. 2013.
A27: b) Lägre antal deltagare detta år än normalt pga att konsumtionsfrågor inte ställdes under oktober-december när "Taxstudien" genomfördes. Värdena för denna period har pga detta interpolerats med värdena från motsvarande månader från föregående och efterkommande år.
A28: c) Lägre antal deltagare detta år än normalt pga att resultaten från juni-december inte beaktats pga osäkerheter vid byte av intervjuarstab. Värdena för denna period har pga detta interpolerats med värdena från motsvarande månader från föregående och efterkommande år.
A29: d) Lägre antal deltagare detta år än normalt pga att ca 1 800 felaktigt genomförda intervjuer exkluderats.
A30: e) Ett mindre antal respondenter utan uppgiven könstillhörighet har inkluderats varför värdet för "alla" överstiger det för summan av könen.
A31: f) Beräkningsgrunderna för svarsfrekvensen har förändrats med åren men tidsserien ger ändå en grov bild av hur denna utvecklats. Det bör också nämnas att urvalsmetodiken förändrades 2013, från RDD-urval till befolkningsurval (ur PAR-konsument), vilket kan ha påverkat svarsfrekvensen i negativ riktning. År 2003 resp. 2009 och 2010 saknas beräkningsunderlag för 1 av de 12 månaderna som utgör beräkningsgrund för årsvärdena.
A32: g) Det som definieras som bortfall i undersökningen är gruppen av personer som av olika skäl inte gått att nå för intervju eller som inte velat ingå i undersökningen. Dessa personer har dock ersatts av andra så att antalet respondenter som utgör underlag för beräkningarna ska vara omkring detsamma de olika åren (se föregående kolumn). För mer information se CAN-rapport 167.
A33: h) Mellan 2018 och juni 2020 fick endast ett slumpmässigt urval av respondenterna i Monitormätningarna möjlighet att besvara konsumtionsfrågorna gällande alkohol och tobak, medan samtliga respondeter svarade på frågorna om anskaffning. Bastalen för konsumtionsfrågorna dessa år är: 2018=4423, 2019A=5720, 2019B=6148 och 2020=14686.
A34: i) Till följd av fel i urvalsramen var 17- och 18-åringar underrepresenterade 2019 och för att uppnå korrekt proportionalitet har respondenter av motsvarande ålder från 2018 års undersökning adderats.
A36: Källa: CAN:s Monitormätningar.

Sheet 2
A2: Anskaffning av cigaretter per invånare 15 år och äldre. 2003–2020.
B3: Totalt | C3: Registrerad försäljning | D3: Resandeinförsel | E3: Smuggling | F3: Oregistrerade, totalt | G3: Andel registrerade (%)
A4: 2003 | B4: 1103.047 | C4: 979.30234 | D4: 86.191459 | E4: 37.553161 | F4: 123.74462 | G4: 88.781564
A5: 2004 | B5: 1078.591 | C5: 936.07659 | D5: 107.77849 | E5: 34.73588 | F5: 142.51437 | G5: 86.786987
A6: 2005 | B6: 1058.0576 | C6: 937.36109 | D6: 80.825155 | E6: 39.871337 | F6: 120.69649 | G6: 88.592635
A7: 2006 | B7: 1046.702 | C7: 936.8468 | D7: 72.670729 | E7: 37.184462 | F7: 109.85519 | G7: 89.504635
A8: 2007 | B8: 945.0747 | C8: 842.27674 | D8: 68.714119 | E8: 34.083833 | F8: 102.79795 | G8: 89.12277
A9: 2008 | B9: 882.20589 | C9: 787.01624 | D9: 68.182075 | E9: 27.007577 | F9: 95.189652 | G9: 89.210041
A10: 2009 | B10: 878.78539 | C10: 810.01227 | D10: 44.767279 | E10: 24.005844 | F10: 68.773124 | G10: 92.174071
A11: 2010 | B11: 857.81147 | C11: 794.84259 | D11: 42.732366 | E11: 20.236509 | F11: 62.968875 | G11: 92.659357
A12: 2011 | B12: 866.78616 | C12: 821.79276 | D12: 31.245928 | E12: 13.747464 | F12: 44.993391 | G12: 94.809171
A13: 2012 | B13: 786.78428 | C13: 742.94747 | D13: 32.423394 | E13: 11.413408 | F13: 43.836802 | G13: 94.428358
A14: 2013 | B14: 741.23333 | C14: 677.1047 | D14: 52.003744 | E14: 12.124887 | F14: 64.128631 | G14: 91.348388
A15: 2014 | B15: 801.26071 | C15: 745.28952 | D15: 44.896181 | E15: 11.075 | F15: 55.971181 | G15: 93.014611
... A19: 2018 | B19: 662.95988 | C19: 628.50338 | D19: 29.001506 | E19: 5.455 | F19: 34.456506 | G19: 94.802626
A20: 2019A | B20: 673.29114 | C20: 629.71224 | D20: 31.273897 | E20: 12.305 | F20: 43.578897 | G20: 93.527481
A21: 2019B | B21: 675.78429 | C21: 629.71224 | D21: 30.49205 | E21: 15.58 | F21: 46.07205 | G21: 93.182433
A22: 2020 | B22: 625.3884 | C22: 587 | D22: 19.388402 | E22: 19 | F22: 38.388402 | G22: 93.86167
A24: Källor: Beräkningskonventioner (2017-2022), CAN:s Monitormätningar.

Sheet 3
A2: Årlig anskaffning av snus i antal kg per invånare 15 år och äldre. 2003–2020.
B3: Totalt | C3: Registrerad försäljning | D3: Till Norge | E3: Registrerade exklusive Norge | F3: Resandeinförsel | G3: Andel registrerade (%)
A5: 2003 | B5: 0.92440646 | C5: 0.93551571 | D5: 0.011109249 | E5: 0.92440646 | F5: . | G5: .
A6: 2004 | B6: 0.93084751 | C6: 0.9444236 | D6: 0.013576089 | E6: 0.93084751 | F6: . | G6: .
A7: 2005 | B7: 0.90946248 | C7: 0.92507309 | D7: 0.015610608 | E7: 0.90946248 | F7: . | G7: .
A8: 2006 | B8: 0.99328492 | C8: 1.0119426 | D8: 0.018657692 | E8: 0.99328492 | F8: . | G8: .
A9: 2007 | B9: 0.80820098 | C9: 0.80641847 | D9: 0.014616335 | E9: 0.79180214 | F9: 0.016398845 | G9: =(1-F9/B9)*100 -> 97.970945
A10: 2008 | B10: 0.72772032 | C10: 0.70469779 | D10: 0.013213084 | E10: 0.69148471 | F10: 0.03623561 | G10: =(1-F10/B10)*100 -> 95.020668
A11: 2009 | B11: 0.75358804 | C11: 0.73967687 | D11: 0.014331239 | E11: 0.72534563 | F11: 0.028242411 | G11: =(1-F11/B11)*100 -> 96.252275
A12: 2010 | B12: 0.756517 | C12: 0.73624843 | D12: 0.016105434 | E12: 0.72014299 | F12: 0.036374003 | G12: =(1-F12/B12)*100 -> 95.191912
A13: 2011 | B13: 0.77816471 | C13: 0.77482233 | D13: 0.018886294 | E13: 0.75593603 | F13: 0.022228678 | G13: =(1-F13/B13)*100 -> 97.143448
A14: 2012 | B14: 0.7944643 | C14: 0.79281391 | D14: 0.021059119 | E14: 0.77175479 | F14: 0.022709512 | G14: =(1-F14/B14)*100 -> 97.141531
A15: 2013 | B15: 0.7319642 | C15: 0.73374314 | D15: 0.020177936 | E15: 0.71356521 | F15: 0.018398996 | G15: =(1-F15/B15)*100 -> 97.486353
A16: 2014 | B16: 0.75065953 | C16: 0.75396819 | D16: 0.021676586 | E16: 0.73229161 | F16: 0.018367927 | G16: =(1-F16/B16)*100 -> 97.553095
A17: 2015 | B17: 0.74997315 | C17: 0.75559068 | D17: 0.022903842 | E17: 0.73268684 | F17: 0.017286314 | G17: =(1-F17/B17)*100 -> 97.695076
A18: 2016 | B18: 0.78663725 | C18: 0.79473698 | D18: 0.026077307 | E18: 0.76865967 | F18: 0.017977584 | G18: =(1-F18/B18)*100 -> 97.714628
A19: 2017 | B19: 0.75341653 | C19: 0.76068993 | D19: 0.026861863 | E19: 0.73382806 | F19: 0.019588462 | G19: =(1-F19/B19)*100 -> 97.400049
A20: 2018 | B20: 0.77174109 | C20: 0.78521441 | D20: 0.030181679 | E20: 0.75503273 | F20: 0.016708359 | G20: =(1-F20/B20)*100 -> 97.834979
A21: 2019 | B21: 0.83956428 | C21: 0.86450966 | D21: 0.034580387 | E21: 0.82992928 | F21: 0.009635 | G21: =(1-F21/B21)*100 -> 98.852381
A22: 2019B | B22: 0.84325428 | C22: 0.86450966 | D22: 0.034580387 | E22: 0.82992928 | F22: 0.013325 | G22: =(1-F22/B22)*100 -> 98.419812
A23: 2020 | B23: 0.81795326 | C23: 0.82248814 | D23: 0.0082248814 | E23: 0.81426326 | F23: 0.00369 | G23: =(1-F23/B23)*100 -> 99.548874
A25: Källor: Beräkningskonventioner (2017-2022), CAN:s Monitormätningar, Skretting m.fl. 2016.

Sheet 4
A2: Årlig anskaffning av snus i antal dosor per invånare 15 år och äldre. 2003–2020.
B3: Totalt | C3: Registrerad försäljning | D3: Till Norge | E3: Registrerade exklusive Norge | F3: Resandeinförsel | G3: Andel registrerade (%)
A5: 2003 | B5: 28.685742 | C5: 29.030478 | D5: 0.34473693 | E5: 28.685742 | F5: . | G5: .
A6: 2004 | B6: 29.414627 | C6: 29.843629 | D6: 0.42900217 | E6: 29.414627 | F6: . | G6: .
A7: 2005 | B7: 29.288592 | C7: 29.791321 | D7: 0.50272854 | E7: 29.288592 | F7: . | G7: .
A8: 2006 | B8: 32.686668 | C8: 33.300648 | D8: 0.61398071 | E8: 32.686668 | F8: . | G8: .
A9: 2007 | B9: 27.204778 | C9: 27.144777 | D9: 0.49199908 | E9: 26.652778 | F9: 0.552 | G9: =(1-F9/B9)*100 -> 97.970945
A10: 2008 | B10: 25.083686 | C10: 24.290126 | D10: 0.45543987 | E10: 23.834686 | F10: 1.249 | G10: =(1-F10/B10)*100 -> 95.020668
A11: 2009 | B11: 26.629485 | C11: 26.137907 | D11: 0.50642196 | E11: 25.631485 | F11: 0.998 | G11: =(1-F11/B11)*100 -> 96.252275
A12: 2010 | B12: 27.439875 | C12: 26.704707 | D12: 0.58416547 | E12: 26.120542 | F12: 1.3193333 | G12: =(1-F12/B12)*100 -> 95.191912
A13: 2011 | B13: 29.009334 | C13: 28.884733 | D13: 0.70406536 | E13: 28.180667 | F13: 0.82866667 | G13: =(1-F13/B13)*100 -> 97.143448
A14: 2012 | B14: 30.482523 | C14: 30.4192 | D14: 0.80801 | E14: 29.61119 | F14: 0.87133333 | G14: =(1-F14/B14)*100 -> 97.141531
A15: 2013 | B15: 28.948643 | C15: 29.018998 | D15: 0.79802246 | E15: 28.220976 | F15: 0.72766667 | G15: =(1-F15/B15)*100 -> 97.486353
A16: 2014 | B16: 30.650964 | C16: 30.786063 | D16: 0.88509931 | E16: 29.900964 | F16: 0.75 | G16: =(1-F16/B16)*100 -> 97.553095
A17: 2015 | B17: 31.671322 | C17: 31.90855 | D17: 0.96722791 | E17: 30.941322 | F17: 0.73 | G17: =(1-F17/B17)*100 -> 97.695076
A18: 2016 | B18: 34.421828 | C18: 34.776257 | D18: 1.1410959 | E18: 33.635161 | F18: 0.78666667 | G18: =(1-F18/B18)*100 -> 97.714628
A19: 2017 | B19: 34.231412 | C19: 34.561878 | D19: 1.2204663 | E19: 33.341412 | F19: 0.89 | G19: =(1-F19/B19)*100 -> 97.400049
A20: 2018 | B20: 36.489249 | C20: 37.126291 | D20: 1.4270418 | E20: 35.699249 | F20: 0.79 | G20: =(1-F20/B20)*100 -> 97.834979
A21: 2019 | B21: 40.954355 | C21: 42.171203 | D21: 1.6868481 | E21: 40.484355 | F21: 0.47 | G21: =(1-F21/B21)*100 -> 98.852381
A22: 2019B | B22: 41.134355 | C22: 42.171203 | D22: 1.6868481 | E22: 40.484355 | F22: 0.65 | G22: =(1-F22/B22)*100 -> 98.419812
A23: 2020 | B23: 39.900159 | C23: 40.121373 | D23: 0.40121373 | E23: 39.720159 | F23: 0.18 | G23: =(1-F23/B23)*100 -> 99.548874
A25: Källor: Beräkningskonventioner (2017-2021), CAN:s Monitormätningar, Skretting m.fl. 2016.

Sheet 5
A2: Andelen som tagit in cigaretter och snus i samband med utlandsresor samt har köpt smuggelcigaretter under de senaste 30 dagarna i befolkningen 17–84a) år. 2003–2020.
B3: Tagit in cigaretter (%) | C3: Tagit in snus (%) | D3: Köpt smuggelcigaretter (%)
A5: 2003 | B5: 2.22 | C5: . | D5: 0.61
A6: 2004 | B6: 2 | C6: . | D6: 0.57
A7: 2005 | B7: 1.88 | C7: . | D7: 0.48
A8: 2006 | B8: 1.65 | C8: . | D8: 0.39
A9: 2007 | B9: 1.6 | C9: 0.33 | D9: 0.39
A10: 2008 | B10: 1.58 | C10: 0.34 | D10: 0.54
A11: 2009 | B11: 1.04 | C11: 0.3 | D11: 0.35
A12: 2010 | B12: 1.04 | C12: 0.29 | D12: 0.29
A13: 2011 | B13: 0.96 | C13: 0.23 | D13: 0.2
A14: 2012 | B14: 1.11 | C14: 0.26 | D14: 0.15
A15: 2013 | B15: 0.93 | C15: 0.22 | D15: 0.29
A16: 2014 | B16: 0.9 | C16: 0.3 | D16: 0.08
A17: 2015 | B17: 0.71 | C17: 0.35 | D17: 0.11
A18: 2016 | B18: 0.71 | C18: 0.29 | D18: 0.11
A19: 2017 | B19: 0.72 | C19: 0.34 | D19: 0.16
A20: 2018 | B20: 0.68 | C20: 0.28 | D20: 0.15
A21: 2019 | B21: 0.62 | C21: 0.26 | D21: 0.17
A22: 2019B | B22: 0.73 | C22: 0.39 | D22: 0.23
A23: 2020 | B23: 0.47 | C23: 0.16 | D23: 0.23
A25: Källor: CAN:s Monitormätningar.
A26: a) Övre åldersgräns 80 år t.o.m. 2013.

Sheet 6
A2: Andelen som ej rökt cigaretter eller snusat de senaste 30 dagarna i befolkningen 17–84a) år, efter åldersgrupper och kön. 2007–2020.
B3: 17–29 år | C3: 30–49 år | D3: 50–64 år | E3: 65–84 åra) | F3: Män | G3: Kvinnor | H3: Alla
A5: 2007 | B5: 63.695115 | C5: 71.255074 | D5: 74.111232 | E5: 84.789255 | F5: 65.674424 | G5: 79.158711 | H5: 72.447642
A6: 2008 | B6: 65.648006 | C6: 73.39814 | D6: 75.669883 | E6: 87.474319 | F6: 68.549388 | G6: 80.517995 | H6: 74.568646
A7: 2009 | B7: 64.95972 | C7: 74.527115 | D7: 76.127135 | E7: 86.298388 | F7: 70.1063 | G7: 82.444518 | H7: 74.947546
A8: 2010 | B8: 68.51303 | C8: 75.504677 | D8: 76.656888 | E8: 86.175016 | F8: 71.391667 | G8: 82.913778 | H8: 76.265257
A9: 2011 | B9: 69.030353 | C9: 76.611488 | D9: 78.431393 | E9: 85.441524 | F9: 71.378184 | G9: 82.910101 | H9: 77.117233
A10: 2012 | B10: 64.319323 | C10: 76.307357 | D10: 77.866531 | E10: 86.508823 | F10: 69.596213 | G10: 82.496526 | H10: 75.996696
A11: 2013 | B11: 65.753896 | C11: 76.242282 | D11: 77.58289 | E11: 86.644329 | F11: 68.947166 | G11: 83.231078 | H11: 76.344465
A12: 2014 | B12: 64.463873 | C12: 75.11003 | D12: 77.76801 | E12: 87.219204 | F12: 68.922876 | G12: 83.262041 | H12: 76.08027
A13: 2015 | B13: 63.164126 | C13: 76.041714 | D13: 77.767064 | E13: 86.461432 | F13: 68.725468 | G13: 83.232975 | H13: 75.96103
A14: 2016 | B14: 59.80974 | C14: 73.988787 | D14: 78.439276 | E14: 85.753865 | F14: 66.611292 | G14: 82.621614 | H14: 74.594952
A15: 2017 | B15: 62.273218 | C15: 73.926024 | D15: 77.669012 | E15: 86.282579 | F15: 68.118534 | G15: 82.119309 | H15: 75.079466
A16: 2018b) | B16: 57.630008 | C16: 73.973535 | D16: 78.123335 | E16: 85.12186 | F16: 66.545906 | G16: 81.639311 | H16: 74.031313
A17: 2019A | B17: 56.858666 | C17: 72.732572 | D17: 76.016003 | E17: 85.620791 | F17: 65.696928 | G17: 80.659813 | H17: 73.111164
A18: 2019B | B18: 59.72 | C18: 68.69 | D18: 75.46 | E18: 84.72 | F18: 64.68 | G18: 79.69 | H18: 72.15
A19: 2020 | B19: 59.74 | C19: 68.69 | D19: 72.43 | E19: 82.92 | F19: 63.31 | G19: 78.88 | H19: 71.04
A21: a) Övre åldersgräns 80 år t.o.m. 2013.
A22: b) I 2018 års frågeformulär exkluderades den inledande frågan som handlade om rökning av någon typ av tobaksprodukt. Numera får respondenterna direkt frågan om konsumtion av specifikt cigaretter. Ändringen av frågekonstruktionen kan ha haft betydelse för jämförbarheten.
A24: Källa: CAN:s Monitormätningar.

Sheet 7
A2: Andelen som; rökt och/eller snusat totalt, använt en ensam produkt (cigaretter eller snus), respektive använt både och de senaste 30 dagarna i befolkningen 17–84a) år, efter åldersgrupper och kön. 2007–2020.
B3: Har rökt och/eller snusat (totalt) | J3: Har rökt men inte snusat de senaste 30 dagarna
B4: 17–29 år | C4: 30–49 år | D4: 50–64 år | E4: 65–84 åra) | F4: Män | G4: Kvinnor | H4: Alla | J4: 17–29 år | K4: 30–49 år | L4: 50–64 år | M4: 65–84 åra) | N4: Män | O4: Kvinnor | P4: Alla
A6: 2007 | B6: 36.248702 | C6: 28.653723 | D6: 25.87909 | E6: 15.149392 | F6: 34.251331 | G6: 20.800627 | H6: 27.494982 | J6: 15.748608 | K6: 10.982632 | L6: 15.344084 | M6: 10.6607 | N6: 9.6958068 | O6: 16.517724 | P6: 13.122486
A7: 2008 | B7: 34.284683 | C7: 26.60186 | D7: 24.202255 | E7: 12.467178 | F7: 31.435909 | G7: 19.383703 | H7: 25.374607 | J7: 15.386494 | K7: 10.946082 | L7: 13.117538 | M7: 8.5712384 | N7: 8.6637415 | O7: 15.446312 | P7: 12.074835
A8: 2009 | B8: 34.844239 | C8: 25.362908 | D8: 23.803268 | E8: 13.535846 | F8: 31.375378 | G8: 18.440149 | H8: 24.893628 | J8: 15.466285 | K8: 9.7472414 | L8: 12.90577 | M8: 8.9052627 | N8: 8.7443224 | O8: 14.507546 | P8: 11.592597
A9: 2010 | B9: 31.399102 | C9: 24.418858 | D9: 23.278552 | E9: 13.597033 | F9: 29.830717 | G9: 17.409963 | H9: 23.429297 | J9: 13.391886 | K9: 9.3847776 | L9: 12.444118 | M9: 8.5074149 | N9: 8.3352557 | O9: 13.349216 | P9: 10.633722
A10: 2011 | B10: 30.664645 | C10: 23.289737 | D10: 21.387972 | E10: 14.460812 | F10: 28.508517 | G10: 16.878242 | H10: 22.720518 | J10: 14.162362 | K10: 8.5236531 | L10: 11.44572 | M10: 9.2224237 | N10: 8.2160183 | O10: 12.93198 | P10: 10.562995
A11: 2012 | B11: 35.680677 | C11: 23.659486 | D11: 22.116214 | E11: 13.422186 | F11: 30.369244 | G11: 17.480019 | H11: 23.974262 | J11: 17.497975 | K11: 8.1049014 | L11: 10.691938 | M11: 8.1736595 | N11: 8.2602733 | O11: 13.279029 | P11: 10.750326
A12: 2013 | B12: 34.189328 | C12: 23.709492 | D12: 22.376993 | E12: 13.225278 | F12: 30.561789 | G12: 16.546023 | H12: 23.539226 | J12: 15.085744 | K12: 7.8905736 | L12: 10.789806 | M12: 7.8614802 | N12: 8.2077246 | O12: 12.113819 | P12: 10.092833
A13: 2014 | B13: 35.390026 | C13: 24.832298 | D13: 22.103981 | E13: 12.683331 | F13: 30.989186 | G13: 16.62095 | H13: 23.817282 | J13: 14.191741 | K13: 7.8487587 | L13: 10.653629 | M13: 7.6980038 | N13: 8.4432694 | O13: 11.294279 | P13: 9.8663509
A14: 2015 | B14: 36.654221 | C14: 23.92417 | D14: 22.160111 | E14: 13.415455 | F14: 31.182641 | G14: 16.68098 | H14: 23.944404 | J14: 13.593941 | K14: 7.1488428 | L14: 10.153263 | M14: 7.3469076 | N14: 7.6044746 | O14: 10.986058 | P14: 9.2841308
A15: 2016 | B15: 40.07156 | C15: 25.957519 | D15: 21.518286 | E15: 14.207728 | F15: 33.326843 | G15: 17.31701 | H15: 25.343438 | J15: 14.516005 | K15: 7.5479869 | L15: 9.6556372 | M15: 7.0169466 | N15: 7.9331557 | O15: 10.927131 | P15: 9.4237224
A16: 2017 | B16: 37.623255 | C16: 25.985678 | D16: 22.306804 | E16: 13.663841 | F16: 31.7909 | G16: 17.834239 | H16: 24.8519 | J16: 13.546205 | K16: 6.9372649 | L16: 8.8995749 | M16: 7.1669927 | N16: 7.1079261 | O16: 10.624991 | P16: 8.8565472
A17: 2018b) | B17: 42.369992 | C17: 26.026465 | D17: 21.876665 | E17: 14.87814 | F17: 33.454094 | G17: 18.360689 | H17: 25.968687 | J17: 16.286354 | K17: 7.570037 | L17: 10.430427 | M17: 8.4561743 | N17: 8.2783748 | O17: 12.292457 | P17: 10.269114
A18: 2019A | B18: 43.141334 | C18: 27.267428 | D18: 23.983997 | E18: 14.379209 | F18: 34.303072 | G18: 19.340187 | H18: 26.888836 | J18: 17.483861 | K18: 7.9490263 | L18: 9.2009234 | M18: 7.2060118 | N18: 8.6042922 | O18: 11.556993 | P18: 10.06738
A19: 2019B | B19: 40.28 | C19: 31.31 | D19: 24.54 | E19: 15.28 | F19: 35.32 | G19: 20.31 | H19: 27.85 | J19: 14.69 | K19: 10.07 | L19: 9.89 | M19: 8.7 | N19: 8.94 | O19: 12.37 | P19: 10.64
A20: 2020 | B20: 40.26 | C20: 31.31 | D20: 27.57 | E20: 17.08 | F20: 36.69 | G20: 21.12 | H20: 28.96 | J20: 10.79 | K20: 8.43 | L20: 10.04 | M20: 8.6 | N20: 7.45 | O20: 11.21 | P20: 9.32
B22: Har både rökt och snusat de senaste 30 dagarna | C22: Har både rökt och snusat de senaste 30 dagarna | J22: Har snusat men inte rökt de senaste 30 dagarna
B23: 17–29 år | C23: 30–49 år | D23: 50–64 år | E23: 65–84 åra) | F23: Män | G23: Kvinnor | H23: Alla | J23: 17–29 år | K23: 30–49 år | L23: 50–64 år | M23: 65–84 åra) | N23: Män | O23: Kvinnor | P23: Alla
A25: 2007 | B25: 7.7472733 | C25: 3.9976878 | D25: 2.4070336 | E25: 0.60630866 | F25: 6.1977088 | G25: 1.5511323 | H25: 3.8637127 | J25: 12.75282 | K25: 13.673403 | L25: 8.127973 | M25: 3.882384 | N25: 18.357815 | O25: 2.7317707 | P25: 10.508783
A26: 2008 | B26: 7.9531061 | C26: 3.3097496 | D26: 2.0720401 | E26: 0.59977999 | F26: 5.7092414 | G26: 1.3890692 | H26: 3.5365381 | J26: 10.945083 | K26: 12.346029 | L26: 9.0126767 | M26: 3.2961599 | N26: 17.062926 | O26: 2.5483218 | P26: 9.7632336
A27: 2009 | B27: 9.0320242 | C27: 3.2834765 | D27: 1.8922248 | E27: 0.59316418 | F27: 5.8736344 | G27: 1.4542969 | H27: 3.6686765 | J27: 10.34593 | K27: 12.33219 | L27: 9.0052723 | M27: 4.0374193 | N27: 16.757421 | O27: 2.4783058 | P27: 9.6323552
A28: 2010 | B28: 8.0991276 | C28: 3.0863855 | D28: 1.6478677 | E28: 0.59367123 | F28: 5.2290043 | G28: 1.4181791 | H28: 3.3267091 | J28: 9.9080884 | K28: 11.947695 | L28: 9.1865658 | M28: 4.4959467 | N28: 16.266457 | O28: 2.642568 | P28: 9.4688666
A29: 2011 | B29: 6.6892841 | C29: 2.8193803 | D29: 1.2394909 | E29: 0.59661995 | F29: 4.4617871 | G29: 1.2021644 | H29: 2.8395819 | J29: 9.812999 | K29: 11.946704 | L29: 8.7027614 | M29: 4.6417687 | N29: 15.830712 | O29: 2.744097 | P29: 9.3179415
A30: 2012 | B30: 8.0792126 | C30: 2.8081705 | D30: 1.5414674 | E30: 0.5934265 | F30: 5.0671108 | G30: 1.3796396 | H30: 3.237574 | J30: 10.103489 | K30: 12.746414 | L30: 9.8828091 | M30: 4.6550999 | N30: 17.041859 | O30: 2.8213503 | P30: 9.9863615
A31: 2013 | B31: 8.6879353 | C31: 2.8875909 | D31: 1.5900791 | E31: 0.62527583 | F31: 5.5029927 | G31: 1.2816498 | H31: 3.4052061 | J31: 10.415648 | K31: 12.931327 | L31: 9.9971077 | M31: 4.7385222 | N31: 16.851071 | O31: 3.150554 | P31: 10.041186
A32: 2014 | B32: 8.2767035 | C32: 3.1414714 | D32: 1.8299199 | E32: 0.45509662 | F32: 5.165619 | G32: 1.5348634 | H32: 3.3533275 | J32: 12.921581 | K32: 13.842068 | L32: 9.6204318 | M32: 4.530231 | N32: 17.380298 | O32: 3.7918077 | P32: 10.597604
A33: 2015 | B33: 9.0096403 | C33: 3.0606342 | D33: 1.9762464 | E33: 0.54542588 | F33: 5.402045 | G33: 1.6624542 | H33: 3.5367299 | J33: 14.05064 | K33: 13.714693 | L33: 10.030601 | M33: 5.5231212 | N33: 18.176121 | O33: 4.0324671 | P33: 11.123543
A34: 2016 | B34: 10.919607 | C34: 3.5953064 | D34: 1.8393013 | E34: 0.76195092 | F34: 6.2824161 | G34: 1.9585418 | H34: 4.1267489 | J34: 14.635948 | K34: 14.814226 | L34: 10.023347 | M34: 6.4288302 | N34: 19.111272 | O34: 4.4313367 | P34: 11.792967
A35: 2017 | B35: 9.8917781 | C35: 3.6851557 | D35: 2.3492344 | E35: 0.8514102 | F35: 6.0222482 | G35: 2.0710889 | H35: 4.0578032 | J35: 14.185272 | K35: 15.363258 | L35: 11.057995 | M35: 5.6454376 | N35: 18.660726 | O35: 5.138159 | P35: 11.93755
A36: 2018b) | B36: 12.321272 | C36: 4.4945665 | D36: 2.1728179 | E36: 0.81345613 | F36: 7.4246125 | G36: 2.0515076 | H36: 4.7598805 | J36: 13.762366 | K36: 13.961862 | L36: 9.2734208 | M36: 5.6085099 | N36: 17.751107 | O36: 4.0167245 | P36: 10.939692
A37: 2019A | B37: 11.454007 | C37: 3.2516738 | D37: 2.4926472 | E37: 0.89695473 | F37: 6.5047242 | G37: 1.9541683 | H37: 4.2498853 | J37: 14.203465 | K37: 16.066728 | L37: 12.290427 | M37: 6.276243 | N37: 19.194056 | O37: 5.8290256 | P37: 12.57157
A38: 2019B | B38: 10.82 | C38: 5.09 | D38: 2.64 | E38: 0.9 | F38: 7.1 | G38: 2.29 | H38: 4.71 | J38: 14.77 | K38: 16.16 | L38: 12 | M38: 5.68 | N38: 19.28 | O38: 5.65 | P38: 12.5
A39: 2020 | B39: 11.05 | C39: 4.64 | D39: 3.28 | E39: 0.86 | F39: 6.8 | G39: 2.62 | H39: 4.73 | J39: 18.42 | K39: 18.23 | L39: 14.26 | M39: 7.62 | N39: 22.43 | O39: 7.28 | P39: 14.91
A41: a) Övre åldersgräns 80 år t.o.m. 2013.
A42: b) I 2018 års frågeformulär exkluderades den inledande frågan som handlade om rökning av någon typ av tobaksprodukt. Numera får respondenterna direkt frågan om konsumtion av specifikt cigaretter. Ändringen av frågekonstruktionen kan ha haft betydelse för jämförbarheten.
A44: Källa: CAN:s Monitormätningar.

Sheet 8
A2: Andelen som rökt minst en cigarett de senaste 30 dagarna i befolkningen 17–84a) år, efter åldersgrupper och kön. 2003–2020.
B3: 17–29 år | C3: 30–49 år | D3: 50–64 år | E3: 65–84 åra) | F3: Män | G3: Kvinnor | H3: Alla
A5: 2003 | B5: 29.046686 | C5: 21.936022 | D5: 19.919398 | E5: 12.437159 | F5: 19.492478 | G5: 23.576502 | H5: 21.552486
A6: 2004 | B6: 27.420489 | C6: 19.304631 | D6: 20.124515 | E6: 10.242562 | F6: 18.230147 | G6: 21.716814 | H6: 19.976804
A7: 2005 | B7: 27.727773 | C7: 18.551647 | D7: 18.4 | E7: 10.037481 | F7: 17.222953 | G7: 21.261492 | H7: 19.257332
A8: 2006 | B8: 25.538852 | C8: 18.205024 | D8: 19.9 | E8: 10.381965 | F8: 17.86874 | G8: 20.278561 | H8: 19.079156
A9: 2007 | B9: 23.495882 | C9: 14.98032 | D9: 17.8 | E9: 11.283539 | F9: 15.893516 | G9: 18.07385 | H9: 16.988707
A10: 2008 | B10: 23.3396 | C10: 14.255831 | D10: 15.2 | E10: 9.1710184 | F10: 14.372983 | G10: 16.835381 | H10: 15.611373
A11: 2009 | B11: 24.417961 | C11: 13.011739 | D11: 14.784031 | E11: 9.4816553 | F11: 14.593921 | G11: 15.930601 | H11: 15.262273
A12: 2010 | B12: 21.459992 | C12: 12.458977 | D12: 14.079756 | E12: 9.0972654 | F12: 13.55814 | G12: 14.740488 | H12: 14.148391
A13: 2011 | B13: 20.851646 | C13: 11.343033 | D13: 12.7 | E13: 9.84953 | F13: 12.689369 | G13: 14.134145 | H13: 13.408385
A14: 2012 | B14: 25.577188 | C14: 10.913072 | D14: 12.2 | E14: 8.767086 | F14: 13.327384 | G14: 14.658668 | H14: 13.9879
A15: 2013 | B15: 23.751404 | C15: 10.771628 | D15: 12.370277 | E15: 8.4866268 | F15: 13.702072 | G15: 13.386311 | H15: 13.541623
A16: 2014 | B16: 22.506514 | C16: 10.99023 | D16: 12.5 | E16: 8.1766571 | F16: 13.64092 | G16: 12.836976 | H16: 13.239654
... A19: 2017 | B19: 23.47245 | C19: 10.652187 | D19: 11.2 | E19: 8.0216924 | F19: 13.135057 | G19: 12.725358 | H19: 12.931424
A20: 2018b) | B20: 28.74001 | C20: 12.055248 | D20: 12.591905 | E20: 9.2632963 | F20: 15.724698 | G20: 14.392469 | H20: 15.064111
A21: 2019A | B21: 28.944796 | C21: 11.164669 | D21: 11.693571 | E21: 8.0919025 | F21: 15.102399 | G21: 13.497126 | H21: 14.307694
A22: 2019B | B22: 25.61 | C22: 15.26 | D22: 12.62 | E22: 9.56 | F22: 16.16 | G22: 14.74 | H22: 15.45
A23: 2020 | B23: 21.87 | C23: 13.13 | D23: 13.33 | E23: 9.48 | F23: 14.27 | G23: 13.92 | H23: 14.1
A25: a) Övre åldersgräns 80 år t.o.m. 2013.
A26: b) I 2018 års frågeformulär exkluderades den inledande frågan som handlade om rökning av någon typ av tobaksprodukt. Numera får respondenterna direkt frågan om konsumtion av specifikt cigaretter. Ändringen av frågekonstruktionen kan ha haft betydelse för jämförbarheten.
A28: Källa: CAN:s Monitormätningar.

Sheet 9
A2: Andelen som rökt dagligen de senaste 30 dagarna i befolkningen 17–84a) år, efter åldersgrupper och kön. 2003–2020.
B3: 17–29 år | C3: 30–49 år | D3: 50–64 år | E3: 65–84 åra) | F3: Män | G3: Kvinnor | H3: Alla
A5: 2003 | B5: 15.333975 | C5: 16.463972 | D5: 17.330352 | E5: 11.061546 | F5: 13.16289 | G5: 18.069018 | H5: 15.63505
A6: 2004 | B6: 14.486088 | C6: 14.130019 | D6: 17.102177 | E6: 9.1797987 | F6: 11.990447 | G6: 16.535911 | H6: 14.266844
A7: 2005 | B7: 13.774137 | C7: 13.340341 | D7: 15.47142 | E7: 9.0889201 | F7: 10.966793 | G7: 15.722289 | H7: 13.362333
A8: 2006 | B8: 12.008136 | C8: 12.451049 | D8: 16.642443 | E8: 9.1758104 | F8: 11.264479 | G8: 14.687365 | H8: 12.983742
A9: 2007 | B9: 11.608863 | C9: 10.469783 | D9: 14.587388 | E9: 9.9161834 | F9: 10.040742 | G9: 13.404184 | H9: 11.730214
A10: 2008 | B10: 11.422021 | C10: 10.156031 | D10: 12.641837 | E10: 8.0443565 | F10: 8.7950689 | G10: 12.665926 | H10: 10.741803
A11: 2009 | B11: 11.757745 | C11: 8.8933237 | D11: 12.453482 | E11: 8.3081562 | F11: 8.8176915 | G11: 11.816551 | H11: 10.314828
A12: 2010 | B12: 11.311188 | C12: 8.589455 | D12: 11.545343 | E12: 7.9370771 | F12: 8.5474256 | G12: 11.02477 | H12: 9.78328
A13: 2011 | B13: 10.70859 | C13: 7.325635 | D13: 10.712857 | E13: 8.6156344 | F13: 7.9620861 | G13: 10.266847 | H13: 9.1090886
A14: 2012 | B14: 11.561966 | C14: 6.4941744 | D14: 9.7123407 | E14: 7.1687213 | F14: 7.1887089 | G14: 9.7597594 | H14: 8.4643342
A15: 2013 | B15: 10.411047 | C15: 6.1643592 | D15: 10.17005 | E15: 7.145279 | F15: 7.7545639 | G15: 8.7120372 | H15: 8.2288184
A16: 2014 | B16: 10.94711 | C16: 6.6656631 | D16: 10.298947 | E16: 7.0282131 | F16: 8.2186979 | G16: 8.8791516 | H16: 8.5483443
... A19: 2017 | B19: 10.060318 | C19: 5.065287 | D19: 8.1298604 | E19: 6.6025606 | F19: 6.9722767 | G19: 7.4166542 | H19: 7.1931458
A20: 2018b) | B20: 11.598381 | C20: 6.22259 | D20: 8.948977 | E20: 7.0286005 | F20: 7.9691469 | G20: 8.384745 | H20: 8.1752772
A21: 2019A | B21: 11.051391 | C21: 5.3961996 | D21: 8.5053019 | E21: 5.9354369 | F21: 7.3173887 | G21: 7.5571348 | H21: 7.4360988
A22: 2019B | B22: 8.05 | C22: 8.35 | D22: 8.93 | E22: 7.07 | F22: 8.02 | G22: 8.24 | H22: 8.13
A23: 2020 | B23: 6.93 | C23: 6.6 | D23: 10.41 | E23: 7.5 | F23: 7.23 | G23: 8.31 | H23: 7.77
A25: a) Övre åldersgräns 80 år t.o.m. 2013.
A26: b) I 2018 års frågeformulär exkluderades den inledande frågan som handlade om rökning av någon typ av tobaksprodukt. Numera får respondenterna direkt frågan om konsumtion av specifikt cigaretter. Ändringen av frågekonstruktionen kan ha haft betydelse för jämförbarheten.
A28: Källa: CAN:s Monitormätningar.

Sheet 10
A2: Andelen som rökt sporadiskt de senaste 30 dagarna i befolkningen 17–84a) år, efter åldersgrupper och kön. 2003–2020.
B3: 17–29 år | C3: 30–49 år | D3: 50–64 år | E3: 65–84 åra) | F3: Män | G3: Kvinnor | H3: Alla
A5: 2003 | B5: 13.719047 | C5: 5.4793947 | D5: 2.6022764 | E5: 1.3835445 | F5: 6.3373892 | G5: 5.5179665 | H5: 5.9264212
A6: 2004 | B6: 12.958846 | C6: 5.1971386 | D6: 3.0367325 | E6: 1.0692821 | F6: 6.2530523 | G6: 5.2057046 | H6: 5.7285373
A7: 2005 | B7: 13.953637 | C7: 5.2113063 | D7: 2.8854453 | E7: 0.94856074 | F7: 6.2561601 | G7: 5.5392034 | H7: 5.8949994
A8: 2006 | B8: 13.530716 | C8: 5.7539746 | D8: 3.2983794 | E8: 1.2061545 | F8: 6.6042618 | G8: 5.5911964 | H8: 6.0954146
A9: 2007 | B9: 11.887019 | C9: 4.5105372 | D9: 3.1637295 | E9: 1.3673554 | F9: 5.8527734 | G9: 4.6696654 | H9: 5.258493
A10: 2008 | B10: 11.917579 | C10: 4.0998004 | D10: 2.5477405 | E10: 1.1266619 | F10: 5.5779139 | G10: 4.1694545 | H10: 4.8695708
A11: 2009 | B11: 12.698323 | C11: 4.1311551 | D11: 2.342364 | E11: 1.1867622 | F11: 5.7901988 | G11: 4.1363536 | H11: 4.9649796
A12: 2010 | B12: 10.163785 | C12: 3.8773875 | D12: 2.5448856 | E12: 1.1749585 | F12: 5.017814 | G12: 3.7342952 | H12: 4.3772249
A13: 2011 | B13: 10.143056 | C13: 4.0173984 | D13: 1.9723543 | E13: 1.2338956 | F13: 4.7272829 | G13: 3.8672973 | H13: 4.2992968
A14: 2012 | B14: 14.015222 | C14: 4.4188975 | D14: 2.5210644 | E14: 1.5983647 | F14: 6.1386752 | G14: 4.8989089 | H14: 5.5235658
A15: 2013 | B15: 13.34779 | C15: 4.6101662 | D15: 2.2043547 | E15: 1.3495239 | F15: 5.9530419 | G15: 4.6783196 | H15: 5.3186192
A16: 2014 | B16: 11.559404 | C16: 4.324567 | D16: 2.2044809 | E16: 1.148444 | F16: 5.4222219 | G16: 3.957824 | H16: 4.6913098
... A19: 2017 | B19: 13.412132 | C19: 5.5868995 | D19: 3.1165702 | E19: 1.4191318 | F19: 6.1627803 | G19: 5.3087033 | H19: 5.7382782
A20: 2018b) | B20: 17.050252 | C20: 5.8326582 | D20: 3.6429275 | E20: 2.2346958 | F20: 7.7105171 | G20: 6.0077235 | H20: 6.8659575
A21: 2019A | B21: 17.831074 | C21: 5.7684699 | D21: 3.1882686 | E21: 2.1564657 | F21: 7.7542537 | G21: 5.9399908 | H21: 6.855923
A22: 2019B | B22: 17.45 | C22: 6.86 | D22: 3.59 | E22: 2.49 | F22: 8.04 | G22: 6.46 | H22: 7.26
A23: 2020 | B23: 14.88 | C23: 6.5 | D23: 2.92 | E23: 1.98 | F23: 7.02 | G23: 5.58 | H23: 6.31
A25: a) Övre åldersgräns 80 år t.o.m. 2013.
A26: b) I 2018 års frågeformulär exkluderades den inledande frågan som handlade om rökning av någon typ av tobaksprodukt. Numera får respondenterna direkt frågan om konsumtion av specifikt cigaretter. Ändringen av frågekonstruktionen kan ha haft betydelse för jämförbarheten.
A28: Källa: CAN:s Monitormätningar.

Sheet 11
A2: Självrapporterad årskonsumtion av antal cigaretter (medelvärde) per rökare 17–84a) år, efter åldersgrupper och kön. 2003–2020.
B3: 17–29 år | C3: 30–49 år | D3: 50–64 år | E3: 65–84 åra) | F3: Män | G3: Kvinnor | H3: Alla
A5: 2003 | B5: 2246.9018 | C5: 3579.8616 | D5: 4289.7738 | E5: 3653.2217 | F5: 3382.2529 | G5: 3335.2945 | H5: 3356.2025
A6: 2004 | B6: 2189.8327 | C6: 3610.7441 | D6: 4026.5142 | E6: 3886.2824 | F6: 3362.2546 | G6: 3276.0425 | H6: 3315.0535
A7: 2005 | B7: 2222.3075 | C7: 3417.8937 | D7: 3946.686 | E7: 3814.4822 | F7: 3244.8968 | G7: 3165.958 | H7: 3200.9936
A8: 2006 | B8: 2011.8643 | C8: 3135.9416 | D8: 3728.1336 | E8: 3759.718 | F8: 3078.579 | G8: 2980.8519 | H8: 3026.4064
A9: 2007 | B9: 2015.6127 | C9: 3395.4831 | D9: 3763.1675 | E9: 3629.8898 | F9: 3140.7904 | G9: 3086.4457 | H9: 3111.7492
A10: 2008 | B10: 2026.1115 | C10: 3253.1781 | D10: 3696.8441 | E10: 3496.5997 | F10: 2893.5325 | G10: 3096.0881 | H10: 3003.3889
A11: 2009 | B11: 1749.033 | C11: 3238.298 | D11: 3669.5096 | E11: 3791.1428 | F11: 2800.3633 | G11: 3031.668 | H11: 2921.5959
A12: 2010 | B12: 2301.5081 | C12: 3061.6568 | D12: 3659.8701 | E12: 3483.3429 | F12: 2889.3358 | G12: 3120.8641 | H12: 3009.9085
A13: 2011 | B13: 1875.9343 | C13: 2779.3233 | D13: 3555.0397 | E13: 3447.6609 | F13: 2774.6527 | G13: 2728.5103 | H13: 2750.4462
A14: 2012 | B14: 1810.5338 | C14: 2620.7038 | D14: 3358.813 | E14: 3197.9794 | F14: 2459.6955 | G14: 2572.0488 | H14: 2518.1127
A15: 2013 | B15: 1574.4206 | C15: 2394.838 | D15: 3467.4585 | E15: 3106.9588 | F15: 2437.577 | G15: 2365.7754 | H15: 2402.92
A16: 2014 | B16: 2006.8141 | C16: 2865.6732 | D16: 3645.8379 | E16: 3185.0452 | F16: 2762.3784 | G16: 2777.058 | H16: 2769.4824
... A20: 2018 | B20: 1607.241 | C20: 2079.9111 | D20: 2988.66 | E20: 2848.6083 | F20: 2125.3446 | G20: 2230.7974 | H20: 2175.3022
A21: 2019A | B21: 1496.331 | C21: 2241.991 | D21: 2877.4061 | E21: 2510.26 | F21: 2006.9436 | G21: 2173.9001 | H21: 2084.9143
A22: 2019B | B22: 1370.2043 | C22: 2409.0417 | D22: 3444.2463 | E22: 2872.8236 | F22: 2385.9562 | G22: 2249.6704 | H22: 2321.3981
A23: 2020 | B23: 1115.0682 | C23: 2124.2475 | D23: 3300.8749 | E23: 2928.9173 | F23: 2053.4162 | G23: 2343.7337 | H23: 2195.5825
A25: a) Övre åldersgräns 80 år t.o.m. 2013.
A27: Källa: CAN:s Monitormätningar.

Sheet 12
A2: Självrapporterad dag-/veckokonsumtion av antal cigaretter (medelvärde) per rökare totalt, dagligrökare samt sporadisk rökare 17–84a) år, efter kön. 2003–2020.
B3: Bland rökare totalt | I3: Bland dagligrökare | P3: Bland sporadiska rökare
B4: Män | D4: Kvinnor | F4: Alla | I4: Män | K4: Kvinnor | M4: Alla | P4: Män | R4: Kvinnor | T4: Alla
B5: /Dag | C5: /Vecka | D5: /Dag | E5: /Vecka | F5: /Dag | G5: /Vecka | I5: /Dag | J5: /Vecka | K5: /Dag | L5: /Vecka | M5: /Dag | N5: /Vecka | P5: /Dag | Q5: /Vecka | R5: /Dag | S5: /Vecka | T5: /Dag | U5: /Vecka
A7: 2003 | B7: 9.2664462 | C7: 64.865123 | D7: 9.1377932 | E7: 63.964552 | F7: 9.1950753 | G7: 64.365527 | I7: 13.163982 | J7: 92.147874 | K7: 11.629405 | L7: 81.405835 | M7: 12.267252 | N7: 85.870764 | P7: 1.122535 | Q7: 7.857745 | R7: 1.1089097 | S7: 7.7623679 | T7: 1.1160423 | U7: 7.8122961
A8: 2004 | B8: 9.2116565 | C8: 64.481595 | D8: 8.9754589 | E8: 62.828212 | F8: 9.0823384 | G8: 63.576369 | I8: 13.371834 | J8: 93.602838 | K8: 11.409445 | L8: 79.866117 | M8: 12.228112 | N8: 85.596782 | P8: 1.0735716 | Q8: 7.5150012 | R8: 1.0599932 | S8: 7.4199523 | T8: 1.0672924 | U8: 7.4710467
A9: 2005 | B9: 8.8901283 | C9: 62.230898 | D9: 8.6738574 | E9: 60.717002 | F9: 8.7698456 | G9: 61.388919 | I9: 13.324656 | J9: 93.272594 | K9: 11.385804 | L9: 79.700625 | M9: 12.175482 | N9: 85.228374 | P9: 1.1211278 | Q9: 7.8478943 | R9: 0.98848077 | S9: 6.9193654 | T9: 1.0586145 | U9: 7.4103014
A10: 2006 | B10: 8.4344629 | C10: 59.041241 | D10: 8.1667176 | E10: 57.167023 | F10: 8.2915243 | G10: 58.04067 | I10: 12.728191 | J10: 89.097335 | K10: 10.901189 | L10: 76.308322 | M10: 11.690106 | N10: 81.83074 | P10: 1.115071 | Q10: 7.8054969 | R10: 1.0030488 | S10: 7.0213415 | T10: 1.063899 | U10: 7.4472932
A11: 2007 | B11: 8.6049051 | C11: 60.234336 | D11: 8.4560157 | E11: 59.19211 | F11: 8.5253403 | G11: 59.677382 | I11: 13.057007 | J11: 91.399051 | K11: 11.053818 | L11: 77.376729 | M11: 11.907204 | N11: 83.350431 | P11: 0.97053541 | Q11: 6.7937479 | R11: 1.0182708 | S11: 7.1278953 | T11: 0.99164577 | U11: 6.9415204
A12: 2008 | B12: 7.9274864 | C12: 55.492405 | D12: 8.4824331 | E12: 59.377032 | F12: 8.2284628 | G12: 57.59924 | I12: 12.268761 | J12: 85.88133 | K12: 10.914563 | L12: 76.401942 | M12: 11.465714 | N12: 80.259995 | P12: 1.0823084 | Q12: 7.5761587 | R12: 1.1120361 | S12: 7.7842528 | T12: 1.0949914 | U12: 7.6649397
A13: 2009 | B13: 7.6722281 | C13: 53.705597 | D13: 8.3059398 | E13: 58.141579 | F13: 8.0043724 | G13: 56.030606 | I13: 11.812187 | J13: 82.685312 | K13: 10.922749 | L13: 76.459243 | M13: 11.302818 | N13: 79.119727 | P13: 1.2695265 | Q13: 8.8866853 | R13: 0.86165872 | S13: 6.031611 | T13: 1.0970559 | U13: 7.679391
A14: 2010 | B14: 7.9159885 | C14: 55.41192 | D14: 8.5503125 | E14: 59.852188 | F14: 8.2463248 | G14: 57.724274 | I14: 12.246026 | J14: 85.72218 | K14: 11.051361 | L14: 77.359529 | M14: 11.563522 | N14: 80.944656 | P14: 1.0659437 | Q14: 7.461606 | R14: 1.0068402 | S14: 7.0478814 | T14: 1.0418596 | U14: 7.2930172
A15: 2011 | B15: 7.6017884 | C15: 53.212518 | D15: 7.4753706 | E15: 52.327594 | F15: 7.5354691 | G15: 52.748284 | I15: 11.561561 | J15: 80.930925 | K15: 9.9610399 | L15: 69.727279 | M15: 10.663797 | N15: 74.64658 | P15: 0.93556685 | Q15: 6.5489679 | R15: 0.87966327 | S15: 6.1576429 | T15: 0.91054487 | U15: 6.3738141
A16: 2012 | B16: 6.7388919 | C16: 47.172243 | D16: 7.0467091 | E16: 49.326964 | F16: 6.8989389 | G16: 48.292572 | I16: 11.611357 | J16: 81.279498 | K16: 10.132187 | L16: 70.925306 | M16: 10.765149 | N16: 75.356044 | P16: 1.046963 | Q16: 7.3287407 | R16: 0.91769463 | S16: 6.4238624 | T16: 0.99028129 | U16: 6.931969
A17: 2013 | B17: 6.6782931 | C17: 46.748052 | D17: 6.4815766 | E17: 45.371036 | F17: 6.5833426 | G17: 46.083398 | I17: 11.282462 | J17: 78.977236 | K17: 9.462699 | L17: 66.238893 | M17: 10.330472 | N17: 72.313301 | P17: 1.0096659 | Q17: 7.0676615 | R17: 0.95961128 | S17: 6.717279 | T17: 0.98848699 | U17: 6.9194089
A18: 2014 | B18: 7.56816 | C18: 52.97712 | D18: 7.608378 | E18: 53.258646 | F18: 7.5876231 | G18: 53.113362 | I18: 11.83528 | J18: 82.846959 | K18: 10.618906 | L18: 74.332343 | M18: 11.204667 | N18: 78.432672 | P18: 1.1327042 | Q18: 7.9289292 | R18: 0.89676423 | S18: 6.2773496 | T18: 1.034464 | U18: 7.2412478
... A22: 2018 | B22: 5.822862 | C22: 40.760034 | D22: 6.1117736 | E22: 42.782415 | F22: 5.959732 | G22: 41.718124 | I22: 10.619853 | J22: 74.338973 | K22: 9.8400319 | L22: 68.880223 | M22: 10.223164 | N22: 71.562146 | P22: 0.9317919 | Q22: 6.5225433 | R22: 0.96448225 | S22: 6.7513758 | T22: 0.94572989 | U22: 6.6201092
A23: 2019A | B23: 5.4984756 | C23: 38.489329 | D23: 5.9558908 | E23: 41.691236 | F23: 5.7120941 | G23: 39.984659 | I23: 10.723326 | J23: 75.063284 | K23: 10.11931 | L23: 70.83517 | M23: 10.41938 | N23: 72.93566 | P23: 0.61434385 | Q23: 4.3004069 | R23: 0.68625398 | S23: 4.8037779 | T23: 0.64508208 | U23: 4.5155745
A24: 2019B | B24: 6.54 | C24: 45.78 | D24: 6.16 | E24: 43.12 | F24: 6.36 | G24: 44.52 | I24: 12.24 | J24: 85.68 | K24: 10.37 | L24: 72.59 | M24: 11.3 | N24: 79.1 | P24: 0.93285714 | Q24: 6.53 | R24: 0.84142857 | S24: 5.89 | T24: 0.89285714 | U24: 6.25
A25: 2020 | B25: 5.63 | C25: 39.41 | D25: 6.42 | E25: 44.94 | F25: 6.02 | G25: 42.14 | I25: 10.42 | J25: 72.94 | K25: 10.27 | L25: 71.89 | M25: 10.34 | N25: 72.38 | P25: 0.71142857 | Q25: 4.98 | R25: 0.72285714 | S25: 5.06 | T25: 0.71571429 | U25: 5.01
A27: a) Övre åldersgräns 80 år t.o.m. 2013.
A29: Källa: CAN:s Monitormätningar.

Sheet 13
A2: Självrapporterad årskonsumtion av antal cigaretter (medelvärde) i befolkningen 17–84a) år, efter åldersgrupper och kön. 2003–2020.
B3: 17–29 år | C3: 30–49 år | D3: 50–64 år | E3: 65–84 åra) | F3: Män | G3: Kvinnor | H3: Alla
A5: 2003 | B5: 597.80641 | C5: 717.45669 | D5: 775.36019 | E5: 416.01785 | F5: 597.50573 | G5: 722.00167 | H5: 660.27214
A6: 2004 | B6: 589.13252 | C6: 681.12872 | D6: 840.62652 | E6: 385.79816 | F6: 605.63796 | G6: 711.83614 | H6: 658.81755
A7: 2005 | B7: 616.19639 | C7: 634.07559 | D7: 724.48781 | E7: 382.87792 | F7: 558.86707 | G7: 673.1299 | H7: 616.42598
A8: 2006 | B8: 513.80704 | C8: 570.89892 | D8: 743.42051 | E8: 390.3326 | F8: 550.10328 | G8: 604.47388 | H8: 577.4128
A9: 2007 | B9: 473.58597 | C9: 508.65424 | D9: 668.00428 | E9: 409.58003 | F9: 499.18201 | G9: 557.83957 | H9: 528.64596
A10: 2008 | B10: 472.88633 | C10: 463.76758 | D10: 561.53502 | E10: 320.6738 | F10: 415.88693 | G10: 521.23822 | H10: 468.87026
A11: 2009 | B11: 279.00893 | C11: 280.33552 | D11: 371.32889 | E11: 258.21563 | F11: 272.36243 | G11: 327.59364 | H11: 299.8579
A12: 2010 | B12: 329.11846 | C12: 258.27461 | D12: 334.85046 | E12: 205.62929 | F12: 259.92018 | G12: 306.07942 | H12: 282.96214
A13: 2011 | B13: 391.16317 | C13: 315.25957 | D13: 450.96429 | E13: 339.5784 | F13: 352.08593 | G13: 385.65158 | H13: 368.79043
A14: 2012 | B14: 463.08361 | C14: 285.99929 | D14: 410.89719 | E14: 280.36961 | F14: 327.81307 | G14: 377.02811 | H14: 352.23109
A15: 2013 | B15: 366.254 | C15: 249.5874 | D15: 432.78759 | E15: 274.90702 | F15: 335.9775 | G15: 308.80235 | H15: 322.49099
A16: 2014 | B16: 449.14464 | C16: 314.22809 | D16: 454.91382 | E16: 259.64281 | F16: 375.09232 | G16: 355.9087 | H16: 365.5315
... A19: 2017 | B19: 381.39123 | C19: 224.53805 | D19: 366.68948 | E19: 247.71794 | F19: 305.60936 | G19: 287.76053 | H19: 296.7559
A20: 2018b) | B20: 461.9075 | C20: 250.755 | D20: 376.315 | E20: 263.8585 | F20: 334.194 | G20: 321.054 | H20: 327.68993
A21: 2019A | B21: 433.10996 | C21: 250.31088 | D21: 336.47151 | E21: 203.12779 | F21: 303.09662 | G21: 293.41403 | H21: 298.30317
A22: 2019B | B22: 335.62634 | C22: 358.56064 | D22: 426.00872 | E22: 270.90679 | F22: 374.74318 | G22: 324.31588 | H22: 349.77668
A23: 2020 | B23: 233.06228 | C23: 272.8674 | D23: 430.94416 | E23: 270.2629 | F23: 284.63645 | G23: 317.90121 | H23: 301.10647
A25: a) Övre åldersgräns 80 år t.o.m. 2013.
A26: b) I 2018 års frågeformulär exkluderades den inledande filterfrågan som rörde användning av någon tobaksprodukt som röks. Respondenterna får istället direkt frågan om konsumtion av cigaretter. Frågeformuleringens förändring kan ha haft betydelse för jämförbarheten.
A28: Källa: CAN:s Monitormätningar.

Sheet 14
A2: Andelen som snusat minst någon gång under de senaste 30 dagarna i befolkningen 17–84a) år, efter åldersgrupper och kön. 2007–2020.
B3: 17–29 år | C3: 30–49 år | D3: 50–64 år | E3: 65–84 åra) | F3: Män | G3: Kvinnor | H3: Alla
A5: 2007 | B5: 20.500094 | C5: 17.67109 | D5: 10.5 | E5: 4.4886926 | F5: 24.6 | G5: 4.2829029 | H5: 14.372496
A6: 2008 | B6: 18.898189 | C6: 15.655779 | D6: 11.1 | E6: 3.8959399 | F6: 22.8 | G6: 3.937391 | H6: 13.299772
A7: 2009 | B7: 19.522127 | C7: 15.621042 | D7: 10.906102 | E7: 4.6284046 | F7: 22.687727 | G7: 3.9431013 | H7: 13.337592
A8: 2010 | B8: 18.035936 | C8: 15.03408 | D8: 10.83816 | E8: 5.0837614 | F8: 21.505933 | G8: 4.0590949 | H8: 12.800578
A9: 2011 | B9: 16.502283 | C9: 14.766084 | D9: 9.9 | E9: 5.2383887 | F9: 20.3 | G9: 3.9462614 | H9: 12.157523
A10: 2012 | B10: 18.182702 | C10: 15.566731 | D10: 11.4 | E10: 5.2485264 | F10: 22.1 | G10: 4.2009899 | H10: 13.232352
A11: 2013 | B11: 19.105778 | C11: 15.821379 | D11: 11.594839 | E11: 5.3591886 | F11: 22.347801 | G11: 4.4359928 | H11: 13.447408
A12: 2014 | B12: 21.247808 | C12: 16.98354 | D12: 11.5 | E12: 4.9853277 | F12: 22.6 | G12: 5.3470563 | H12: 13.967108
A13: 2015 | B13: 23.06028 | C13: 16.778207 | D13: 12 | E13: 6.0685471 | F13: 23.6 | G13: 5.6949213 | H13: 14.661106
A14: 2016 | B14: 25.555554 | C14: 18.409532 | D14: 11.9 | E14: 7.2061619 | F14: 25.4 | G14: 6.3898785 | H14: 15.923112
A15: 2017 | B15: 24.07705 | C15: 19.048414 | D15: 13.4 | E15: 6.4968478 | F15: 24.7 | G15: 7.209248 | H15: 15.995353
A16: 2018 | B16: 26.162484 | C16: 18.456428 | D16: 11.446239 | E16: 6.4175777 | F16: 25.201943 | G16: 6.0682321 | H16: 15.7199
A17: 2019A | B17: 25.634942 | C17: 19.282995 | D17: 14.783074 | E17: 7.1731977 | F17: 25.679257 | G17: 7.776889 | H17: 16.808256
A18: 2019B | B18: 25.34 | C18: 21.29 | D18: 14.64 | E18: 6.58 | F18: 26.33 | G18: 7.92 | H18: 17.19
A19: 2020 | B19: 29.35 | C19: 22.86 | D19: 17.51 | E19: 8.47 | F19: 29.2 | G19: 9.89 | H19: 19.62
A21: a) Övre åldersgräns 80 år t.o.m. 2013.
A23: Källa: CAN:s Monitormätningar.

Sheet 15
A2: Andelen som snusat dagligen de senaste 30 dagarna i befolkningen 17–84a) år, efter åldersgrupper och kön. 2007–2020.
B3: 17–29 år | C3: 30–49 år | D3: 50–64 år | E3: 65–84 åra) | F3: Män | G3: Kvinnor | H3: Alla
A5: 2007 | B5: 15.297874 | C5: 15.463391 | D5: 9.4866214 | E5: 4.1313608 | F5: 21.341029 | G5: 2.9675084 | H5: 12.111928
A6: 2008 | B6: 13.736256 | C6: 13.925606 | D6: 10.130429 | E6: 3.668407 | F6: 19.988607 | G6: 2.6871691 | H6: 11.287359
A7: 2009 | B7: 14.27478 | C7: 13.776129 | D7: 9.9232206 | E7: 4.2250495 | F7: 19.823067 | G7: 2.6305596 | H7: 11.246194
A8: 2010 | B8: 13.266932 | C8: 13.435611 | D8: 10.046844 | E8: 4.6273772 | F8: 19.03551 | G8: 2.8117961 | H8: 10.940759
A9: 2011 | B9: 11.896528 | C9: 12.982437 | D9: 9.2393776 | E9: 4.8398808 | F9: 17.767308 | G9: 2.7566594 | H9: 10.29701
A10: 2012 | B10: 12.086189 | C10: 12.836648 | D10: 10.515162 | E10: 4.8087446 | F10: 18.34997 | G10: 2.7776326 | H10: 10.623763
A11: 2013 | B11: 12.783027 | C11: 13.713059 | D11: 10.719489 | E11: 4.8781195 | F11: 19.014737 | G11: 2.9398927 | H11: 11.025703
A12: 2014 | B12: 14.873957 | C12: 14.566811 | D12: 10.791528 | E12: 4.6971453 | F12: 19.577235 | G12: 3.544427 | H12: 11.57446
A13: 2015 | B13: 16.083708 | C13: 14.03783 | D13: 11.029734 | E13: 5.702772 | F13: 19.913351 | G13: 3.9237404 | H13: 11.941634
A14: 2016 | B14: 17.112223 | C14: 15.425475 | D14: 10.783611 | E14: 6.5924854 | F14: 21.123988 | G14: 4.3077051 | H14: 12.740792
A15: 2017 | B15: 14.849856 | C15: 15.92423 | D15: 12.260739 | E15: 5.8408862 | F15: 20.591265 | G15: 4.5012441 | H15: 12.591597
A16: 2018 | B16: 18.246817 | C16: 14.919334 | D16: 10.274155 | E16: 5.7884632 | F16: 20.851353 | G16: 3.9466874 | H16: 12.473952
A17: 2019A | B17: 18.15315 | C17: 16.408449 | D17: 13.502933 | E17: 6.6631977 | F17: 21.962284 | G17: 5.662385 | H17: 13.885341
A18: 2019B | B18: 16.7 | C18: 17.93 | D18: 13.38 | E18: 6.04 | F18: 22.27 | G18: 5.4 | H18: 13.9
A19: 2020 | B19: 18.7 | C19: 19.76 | D19: 16.37 | E19: 7.97 | F19: 25.05 | G19: 6.94 | H19: 16.07
A21: a) Övre åldersgräns 80 år t.o.m. 2013.
A23: Källa: CAN:s Monitormätningar.

Sheet 16
A2: Andelen som snusat sporadiskt de senaste 30 dagarna i befolkningen 17–84a) år, efter åldersgrupper och kön 2007–2020.
B3: 17–29 år | C3: 30–49 år | D3: 50–64 år | E3: 65–84 åra) | F3: Män | G3: Kvinnor | H3: Alla
A5: 2007 | B5: 5.2022193 | C5: 2.2076995 | D5: 1.0483852 | E5: 0.35733179 | F5: 3.2144949 | G5: 1.3153945 | H5: 2.2605683
A6: 2008 | B6: 5.1619328 | C6: 1.7301722 | D6: 0.95428744 | E6: 0.22753296 | F6: 2.7835604 | G6: 1.2502219 | H6: 2.012413
A7: 2009 | B7: 5.2473468 | C7: 1.8449133 | D7: 0.98288095 | E7: 0.40335504 | F7: 2.8646601 | G7: 1.3125417 | H7: 2.0913975
A8: 2010 | B8: 4.769004 | C8: 1.5984696 | D8: 0.79131614 | E8: 0.45638425 | F8: 2.4704232 | G8: 1.2472988 | H8: 1.8598187
A9: 2011 | B9: 4.6057553 | C9: 1.7836475 | D9: 0.70287466 | E9: 0.3985079 | F9: 2.5251908 | G9: 1.189602 | H9: 1.860513
A10: 2012 | B10: 6.0965125 | C10: 2.7300828 | D10: 0.92636923 | E10: 0.43978183 | F10: 3.7757042 | G10: 1.4233573 | H10: 2.6085885
A11: 2013 | B11: 6.3227503 | C11: 2.1083208 | D11: 0.87535016 | E11: 0.48106915 | F11: 3.3330635 | G11: 1.4961001 | H11: 2.4217051
A12: 2014 | B12: 6.3738511 | C12: 2.4167291 | D12: 0.68142251 | E12: 0.28818234 | F12: 2.9806654 | G12: 1.8026293 | H12: 2.3926487
A13: 2015 | B13: 6.9765724 | C13: 2.7403768 | D13: 0.97711313 | E13: 0.36577511 | F13: 3.6648148 | G13: 1.7711809 | H13: 2.7194714
A14: 2016 | B14: 8.4433312 | C14: 2.9840576 | D14: 1.0790375 | E14: 0.61367655 | F14: 4.2764719 | G14: 2.0821734 | H14: 3.1823203
A15: 2017 | B15: 9.2271939 | C15: 3.1241833 | D15: 1.1464901 | E15: 0.65596167 | F15: 4.0917093 | G15: 2.7080039 | H15: 3.4037559
A16: 2018 | B16: 7.9156665 | C16: 3.5370939 | D16: 1.1720833 | E16: 0.62911452 | F16: 4.3505893 | G16: 2.1215447 | H16: 3.2459475
A17: 2019A | B17: 7.4817925 | C17: 2.8745457 | D17: 1.2801415 | E17: 0.51 | F17: 3.7169724 | G17: 2.1145039 | H17: 2.9229155
A18: 2019B | B18: 8.63 | C18: 3.36 | D18: 1.27 | E18: 0.54 | F18: 4.06 | G18: 2.52 | H18: 3.3
A19: 2020 | B19: 10.65 | C19: 3.1 | D19: 1.14 | E19: 0.5 | F19: 4.14 | G19: 2.95 | H19: 3.55
A21: a) Övre åldersgräns 80 år t.o.m. 2013.
A23: Källa: CAN:s Monitormätningar.

Sheet 17
A2: Självrapporterad vecko-/årskonsumtion av antal snusdosor (medelvärde) per snusare totalt, dagligsnusare samt sporadiska snusare 17–84a) år, efter kön. 2007–2020.
B3: Bland snusare totalt | I3: Bland dagligsnusare | P3: Bland sporadiska snusare
B4: Män | D4: Kvinnor | F4: Alla | I4: Män | K4: Kvinnor | M4: Alla | P4: Män | R4: Kvinnor | T4: Alla
B5: /Vecka | C5: /År | D5: /Vecka | E5: /År | F5: /Vecka | G5: /År | I5: /Vecka | J5: /År | K5: /Vecka | L5: /År | M5: /Vecka | N5: /År | P5: /Vecka | Q5: /År | R5: /Vecka | S5: /År | T5: /Vecka | U5: /År
A7: 2007 | B7: . | C7: . | D7: . | E7: . | F7: . | G7: . | I7: 3.830811 | J7: 199.20217 | K7: 3.2862 | L7: 170.8824 | M7: 3.7644055 | N7: 195.74908 | P7: . | Q7: . | R7: . | S7: . | T7: . | U7: .
A8: 2008 | B8: . | C8: . | D8: . | E8: . | F8: . | G8: . | I8: 3.902529 | J8: 202.93151 | K8: 3.789233 | L8: 197.04012 | M8: 3.8889108 | N8: 202.22336 | P8: . | Q8: . | R8: . | S8: . | T8: . | U8: .
A9: 2009 | B9: . | C9: . | D9: . | E9: . | F9: . | G9: . | I9: 3.990727 | J9: 207.5178 | K9: 3.5603421 | L9: 185.13779 | M9: 3.9431545 | N9: 205.04403 | P9: . | Q9: . | R9: . | S9: . | T9: . | U9: .
A10: 2010 | B10: . | C10: . | D10: . | E10: . | F10: . | G10: . | I10: 3.8665153 | J10: 201.0588 | K10: 3.5371375 | L10: 183.93115 | M10: 3.8235686 | N10: 198.82557 | P10: . | Q10: . | R10: . | S10: . | T10: . | U10: .
A11: 2011 | B11: . | C11: . | D11: . | E11: . | F11: . | G11: . | I11: 4.0127409 | J11: 208.66253 | K11: 3.4941297 | L11: 181.69474 | M11: 3.9436359 | N11: 205.06907 | P11: . | Q11: . | R11: . | S11: . | T11: . | U11: .
A12: 2012 | B12: . | C12: . | D12: . | E12: . | F12: . | G12: . | I12: 3.9759968 | J12: 206.75183 | K12: 3.4004632 | L12: 176.82408 | M12: 3.9020989 | N12: 202.90914 | P12: . | Q12: . | R12: . | S12: . | T12: . | U12: .
A13: 2013 | B13: . | C13: . | D13: . | E13: . | F13: . | G13: . | I13: 4.0531967 | J13: 210.76623 | K13: 3.7940273 | L13: 197.28942 | M13: 4.0161482 | N13: 208.8397 | P13: . | Q13: . | R13: . | S13: . | T13: . | U13: .
A14: 2014 | B14: . | C14: . | D14: . | E14: . | F14: . | G14: . | I14: 3.9682391 | J14: 206.34843 | K14: 3.4934081 | L14: 181.65722 | M14: 3.8953 | N14: 202.5556 | P14: . | Q14: . | R14: . | S14: . | T14: . | U14: .
A15: 2015 | B15: 3.5277552 | C15: 183.44327 | D15: 2.8054919 | E15: 145.88558 | F15: 3.3911816 | G15: 176.34144 | I15: 3.966589 | J15: 206.26263 | K15: 3.7340778 | L15: 194.17204 | M15: 3.9285622 | N15: 204.28523 | P15: 0.56319877 | Q15: 29.286336 | R15: 0.34426247 | S15: 17.901648 | T15: 0.49564769 | U15: 25.77368
A16: 2016 | B16: 3.5240084 | C16: 183.24844 | D16: 2.70189 | E16: 140.49828 | F16: 3.3615622 | G16: 174.80123 | I16: 4.0706215 | J16: 211.67232 | K16: 3.7107229 | L16: 192.95759 | M16: 4.0097047 | N16: 208.50465 | P16: 0.64599286 | Q16: 33.591629 | R16: 0.39950757 | S16: 20.774394 | T16: 0.56717858 | U16: 29.493286
A17: 2017 | B17: 3.6166516 | C17: 188.06588 | D17: 2.4384052 | E17: 126.79707 | F17: 3.3562151 | G17: 174.52319 | I17: 4.152355 | J17: 215.92246 | K17: 3.5548 | L17: 184.8496 | M17: 4.0465189 | N17: 210.41898 | P17: 0.78273605 | Q17: 40.702275 | R17: 0.47165975 | S17: 24.997967 | T17: 0.6606161 | U17: 34.352037
A18: 2018 | B18: 3.3751 | C18: 175.5052 | D18: 2.3195 | E18: 120.614 | F18: 3.1710718 | G18: 164.89573 | I18: 3.9191461 | J18: 203.7956 | K18: 3.3632705 | L18: 174.89007 | M18: 3.8318 | N18: 199.2536 | P18: 0.60920785 | Q18: 31.678808 | R18: 0.37784757 | S18: 20.025921 | T18: 0.53109016 | U18: 27.616688
A19: 2019A | B19: 3.8127011 | C19: 198.26045 | D19: 2.9065383 | E19: 151.13999 | F19: 3.6112121 | G19: 187.78303 | I19: 4.3004268 | J19: 223.6222 | K19: 3.7094099 | L19: 192.88932 | M19: 4.1816913 | N19: 217.44795 | P19: 0.68391805 | Q19: 35.563739 | R19: 0.35458943 | S19: 18.43865 | T19: 0.5730635 | U19: 29.799302
A20: 2019B | B20: 3.9732633 | C20: 206.60969 | D20: 3.0613325 | E20: 159.18929 | F20: 3.7645849 | G20: 195.75842 | I20: 4.5114504 | J20: 234.59542 | K20: 4.1598677 | L20: 216.31312 | M20: 4.44414 | N20: 231.09528 | P20: 0.8878157 | Q20: 46.166416 | R20: 0.73287649 | S20: 38.109578 | T20: 0.8273263 | U20: 43.020967
A21: 2020 | B21: 3.9920911 | C21: 207.58874 | D21: 2.7607312 | E21: 143.55802 | F21: 3.6830692 | G21: 191.5196 | I21: 4.4866972 | J21: 233.30826 | K21: 3.6818727 | L21: 191.45738 | M21: 4.3132115 | N21: 224.287 | P21: 0.88028319 | Q21: 45.774726 | R21: 0.53068662 | S21: 27.595704 | T21: 0.73463839 | U21: 38.201196
A23: a) Övre åldersgräns 80 år t.o.m. 2013.
A25: Källa: CAN:s Monitormätningar.

Sheet 18
A2: Självrapporterad årskonsumtion av antal snusdosor (medelvärde) per snusarea) 17–84b) år, efter åldersgrupper och kön. 2007–2020.
B3: 17–29 år | C3: 30–49 år | D3: 50–64 år | E3: 65–84 årb) | F3: Män | G3: Kvinnor | H3: Alla
A5: 2007 | B5: 199.55644 | C5: 209.45747 | D5: 178.77308 | E5: 129.06479 | F5: 199.20217 | G5: 170.88172 | H5: 195.74908
A6: 2008 | B6: 195.23942 | C6: 218.91785 | D6: 190.3911 | E6: 148.06752 | F6: 202.93151 | G6: 197.04012 | H6: 202.22336
A7: 2009 | B7: 197.01942 | C7: 223.97552 | D7: 198.01267 | E7: 144.77039 | F7: 207.5178 | G7: 185.13779 | H7: 205.04403
A8: 2010 | B8: 198.0787 | C8: 211.19603 | D8: 196.47295 | E8: 148.03337 | F8: 201.0588 | G8: 183.93115 | H8: 198.82557
A9: 2011 | B9: 202.45319 | C9: 228.01057 | D9: 188.74696 | E9: 136.94713 | F9: 208.66253 | G9: 181.6932 | H9: 205.06907
A10: 2012 | B10: 199.71627 | C10: 216.9605 | D10: 198.53785 | E10: 150.79356 | F10: 206.75183 | G10: 176.826 | H10: 202.90914
A11: 2013 | B11: 193.62364 | C11: 232.0819 | D11: 203.4542 | E11: 159.6079 | F11: 210.76623 | G11: 197.288 | H11: 208.8397
A12: 2014 | B12: 186.04372 | C12: 223.36061 | D12: 200.05451 | E12: 164.12277 | F12: 206.3464 | G12: 181.65722 | H12: 202.55676
A13: 2015c) | B13: 154.8338 | C13: 195.68699 | D13: 186.04034 | E13: 154.32569 | F13: 183.44327 | G13: 145.88558 | H13: 176.34144
A14: 2016 | B14: 146.40896 | C14: 202.05347 | D14: 187.40415 | E14: 145.42135 | F14: 183.24844 | G14: 140.49828 | H14: 174.80123
A15: 2017 | B15: 135.59698 | C15: 202.78366 | D15: 189.60678 | E15: 154.36707 | F15: 188.06588 | G15: 126.79707 | H15: 174.52319
A16: 2018 | B16: 159.58191 | C16: 170.61737 | D16: 176.35548 | E16: 138.9799 | F16: 175.5052 | G16: 120.614 | H16: 164.89573
